BEGIN:VCALENDAR
VERSION:2.0
PRODID:-//The Davenham Players - ECPv6.15.20//NONSGML v1.0//EN
CALSCALE:GREGORIAN
METHOD:PUBLISH
X-ORIGINAL-URL:https://www.davenhamplayers.co.uk
X-WR-CALDESC:Events for The Davenham Players
REFRESH-INTERVAL;VALUE=DURATION:PT1H
X-Robots-Tag:noindex
X-PUBLISHED-TTL:PT1H
BEGIN:VTIMEZONE
TZID:Europe/London
BEGIN:DAYLIGHT
TZOFFSETFROM:+0000
TZOFFSETTO:+0100
TZNAME:BST
DTSTART:20220327T010000
END:DAYLIGHT
BEGIN:STANDARD
TZOFFSETFROM:+0100
TZOFFSETTO:+0000
TZNAME:GMT
DTSTART:20221030T010000
END:STANDARD
BEGIN:DAYLIGHT
TZOFFSETFROM:+0000
TZOFFSETTO:+0100
TZNAME:BST
DTSTART:20230326T010000
END:DAYLIGHT
BEGIN:STANDARD
TZOFFSETFROM:+0100
TZOFFSETTO:+0000
TZNAME:GMT
DTSTART:20231029T010000
END:STANDARD
BEGIN:DAYLIGHT
TZOFFSETFROM:+0000
TZOFFSETTO:+0100
TZNAME:BST
DTSTART:20240331T010000
END:DAYLIGHT
BEGIN:STANDARD
TZOFFSETFROM:+0100
TZOFFSETTO:+0000
TZNAME:GMT
DTSTART:20241027T010000
END:STANDARD
BEGIN:DAYLIGHT
TZOFFSETFROM:+0000
TZOFFSETTO:+0100
TZNAME:BST
DTSTART:20250330T010000
END:DAYLIGHT
BEGIN:STANDARD
TZOFFSETFROM:+0100
TZOFFSETTO:+0000
TZNAME:GMT
DTSTART:20251026T010000
END:STANDARD
BEGIN:DAYLIGHT
TZOFFSETFROM:+0000
TZOFFSETTO:+0100
TZNAME:BST
DTSTART:20260329T010000
END:DAYLIGHT
BEGIN:STANDARD
TZOFFSETFROM:+0100
TZOFFSETTO:+0000
TZNAME:GMT
DTSTART:20261025T010000
END:STANDARD
END:VTIMEZONE
BEGIN:VEVENT
DTSTART;TZID=Europe/London:20251130T193000
DTEND;TZID=Europe/London:20251130T220000
DTSTAMP:20260424T164919
CREATED:20250523T161834Z
LAST-MODIFIED:20251109T211412Z
UID:10001892-1764531000-1764540000@www.davenhamplayers.co.uk
SUMMARY:Davenham Comedy Club - November
DESCRIPTION:Davenham Comedy Club resumes in October\, running monthly (except December) until April \nLAST SUNDAY OF THE MONTH \n7:30PM AT DAVENHAM THEATRE \nFor Tickets see Ticket Source at https://www.davenhamplayers.co.uk/ \n 
URL:https://www.davenhamplayers.co.uk/event-and-production/davenham-comedy-club-november/
LOCATION:Davenham Theatre\, 59 Church Street\, Northwich\, CW9 8NF\, United Kingdom
CATEGORIES:Comedy,Featured
ATTACH;FMTTYPE=image/jpeg:https://www.davenhamplayers.co.uk/wp-content/uploads/2024/07/CC-2024-25-scaled.jpg
GEO:53.2367913;-2.5072065
X-APPLE-STRUCTURED-LOCATION;VALUE=URI;X-ADDRESS=Davenham Theatre 59 Church Street Northwich CW9 8NF United Kingdom;X-APPLE-RADIUS=500;X-TITLE=59 Church Street:geo:-2.5072065,53.2367913
END:VEVENT
BEGIN:VEVENT
DTSTART;TZID=Europe/London:20251026T193000
DTEND;TZID=Europe/London:20251026T220000
DTSTAMP:20260424T164919
CREATED:20250523T122753Z
LAST-MODIFIED:20250523T161517Z
UID:10001889-1761507000-1761516000@www.davenhamplayers.co.uk
SUMMARY:Davenham Comedy Club - October
DESCRIPTION:Davenham Comedy Club resumes in October\, running monthly (except December) until April 2026 \nLAST SUNDAY OF THE MONTH \n7:30PM AT DAVENHAM THEATRE \nFor Tickets see Ticket Source at https://www.davenhamplayers.co.uk/ \n 
URL:https://www.davenhamplayers.co.uk/event-and-production/davenham-comedy-club-5/
LOCATION:Davenham Theatre\, 59 Church Street\, Northwich\, CW9 8NF\, United Kingdom
CATEGORIES:Comedy
ATTACH;FMTTYPE=image/jpeg:https://www.davenhamplayers.co.uk/wp-content/uploads/2024/07/CC-2024-25-scaled.jpg
GEO:53.2367913;-2.5072065
X-APPLE-STRUCTURED-LOCATION;VALUE=URI;X-ADDRESS=Davenham Theatre 59 Church Street Northwich CW9 8NF United Kingdom;X-APPLE-RADIUS=500;X-TITLE=59 Church Street:geo:-2.5072065,53.2367913
END:VEVENT
BEGIN:VEVENT
DTSTART;TZID=Europe/London:20250427T193000
DTEND;TZID=Europe/London:20250427T220000
DTSTAMP:20260424T164919
CREATED:20250415T142358Z
LAST-MODIFIED:20250415T142358Z
UID:10001631-1745782200-1745791200@www.davenhamplayers.co.uk
SUMMARY:Davenham Comedy Club
DESCRIPTION:Davenham Comedy Club resumes in October\, running monthly (except December) until April 2025 \nLAST SUNDAY OF THE MONTH \n7:30PM AT DAVENHAM THEATRE
URL:https://www.davenhamplayers.co.uk/event-and-production/davenham-comedy-club-4-4/
LOCATION:Davenham Theatre\, 59 Church Street\, Northwich\, CW9 8NF\, United Kingdom
CATEGORIES:Comedy,Featured
ATTACH;FMTTYPE=image/jpeg:https://www.davenhamplayers.co.uk/wp-content/uploads/2024/07/CC-2024-25-scaled.jpg
GEO:53.2367913;-2.5072065
X-APPLE-STRUCTURED-LOCATION;VALUE=URI;X-ADDRESS=Davenham Theatre 59 Church Street Northwich CW9 8NF United Kingdom;X-APPLE-RADIUS=500;X-TITLE=59 Church Street:geo:-2.5072065,53.2367913
END:VEVENT
BEGIN:VEVENT
DTSTART;TZID=Europe/London:20250330T193000
DTEND;TZID=Europe/London:20250330T220000
DTSTAMP:20260424T164919
CREATED:20240725T203540Z
LAST-MODIFIED:20240725T203704Z
UID:10001630-1743363000-1743372000@www.davenhamplayers.co.uk
SUMMARY:Davenham Comedy Club
DESCRIPTION:Davenham Comedy Club resumes in October\, running monthly (except December) until April 2025 \nLAST SUNDAY OF THE MONTH \n7:30PM AT DAVENHAM THEATRE
URL:https://www.davenhamplayers.co.uk/event-and-production/davenham-comedy-club-4/2025-03-30/
LOCATION:Davenham Theatre\, 59 Church Street\, Northwich\, CW9 8NF\, United Kingdom
CATEGORIES:Comedy
ATTACH;FMTTYPE=image/jpeg:https://www.davenhamplayers.co.uk/wp-content/uploads/2024/07/CC-2024-25-scaled.jpg
GEO:53.2367913;-2.5072065
X-APPLE-STRUCTURED-LOCATION;VALUE=URI;X-ADDRESS=Davenham Theatre 59 Church Street Northwich CW9 8NF United Kingdom;X-APPLE-RADIUS=500;X-TITLE=59 Church Street:geo:-2.5072065,53.2367913
END:VEVENT
BEGIN:VEVENT
DTSTART;TZID=Europe/London:20250223T193000
DTEND;TZID=Europe/London:20250223T220000
DTSTAMP:20260424T164919
CREATED:20250205T161119Z
LAST-MODIFIED:20250205T161119Z
UID:10001629-1740339000-1740348000@www.davenhamplayers.co.uk
SUMMARY:Davenham Comedy Club
DESCRIPTION:Davenham Comedy Club resumes in October\, running monthly (except December) until April 2025 \nLAST SUNDAY OF THE MONTH \n7:30PM AT DAVENHAM THEATRE
URL:https://www.davenhamplayers.co.uk/event-and-production/davenham-comedy-club-4-3/
LOCATION:Davenham Theatre\, 59 Church Street\, Northwich\, CW9 8NF\, United Kingdom
CATEGORIES:Comedy,Featured
ATTACH;FMTTYPE=image/jpeg:https://www.davenhamplayers.co.uk/wp-content/uploads/2024/07/CC-2024-25-scaled.jpg
GEO:53.2367913;-2.5072065
X-APPLE-STRUCTURED-LOCATION;VALUE=URI;X-ADDRESS=Davenham Theatre 59 Church Street Northwich CW9 8NF United Kingdom;X-APPLE-RADIUS=500;X-TITLE=59 Church Street:geo:-2.5072065,53.2367913
END:VEVENT
BEGIN:VEVENT
DTSTART;TZID=Europe/London:20250126T193000
DTEND;TZID=Europe/London:20250126T220000
DTSTAMP:20260424T164919
CREATED:20241221T101307Z
LAST-MODIFIED:20241221T101307Z
UID:10001628-1737919800-1737928800@www.davenhamplayers.co.uk
SUMMARY:Davenham Comedy Club
DESCRIPTION:Davenham Comedy Club resumes in October\, running monthly (except December) until April 2025 \nLAST SUNDAY OF THE MONTH \n7:30PM AT DAVENHAM THEATRE
URL:https://www.davenhamplayers.co.uk/event-and-production/davenham-comedy-club-4-2/
LOCATION:Davenham Theatre\, 59 Church Street\, Northwich\, CW9 8NF\, United Kingdom
CATEGORIES:Comedy,Featured
ATTACH;FMTTYPE=image/jpeg:https://www.davenhamplayers.co.uk/wp-content/uploads/2024/07/CC-2024-25-scaled.jpg
GEO:53.2367913;-2.5072065
X-APPLE-STRUCTURED-LOCATION;VALUE=URI;X-ADDRESS=Davenham Theatre 59 Church Street Northwich CW9 8NF United Kingdom;X-APPLE-RADIUS=500;X-TITLE=59 Church Street:geo:-2.5072065,53.2367913
END:VEVENT
BEGIN:VEVENT
DTSTART;TZID=Europe/London:20241124T193000
DTEND;TZID=Europe/London:20241124T220000
DTSTAMP:20260424T164919
CREATED:20241109T203816Z
LAST-MODIFIED:20241109T203816Z
UID:10001622-1732476600-1732485600@www.davenhamplayers.co.uk
SUMMARY:Davenham Comedy Club
DESCRIPTION:Davenham Comedy Club resumes this October\, running monthly (except December) until April 2025 \nLAST SUNDAY OF THE MONTH \n7:30PM AT DAVENHAM THEATRE
URL:https://www.davenhamplayers.co.uk/event-and-production/davenham-comedy-club-3-3/
LOCATION:Davenham Theatre\, 59 Church Street\, Northwich\, CW9 8NF\, United Kingdom
CATEGORIES:Comedy,Featured
ATTACH;FMTTYPE=image/jpeg:https://www.davenhamplayers.co.uk/wp-content/uploads/2024/07/CC-2024-25-scaled.jpg
GEO:53.2367913;-2.5072065
X-APPLE-STRUCTURED-LOCATION;VALUE=URI;X-ADDRESS=Davenham Theatre 59 Church Street Northwich CW9 8NF United Kingdom;X-APPLE-RADIUS=500;X-TITLE=59 Church Street:geo:-2.5072065,53.2367913
END:VEVENT
BEGIN:VEVENT
DTSTART;TZID=Europe/London:20241027T193000
DTEND;TZID=Europe/London:20241027T220000
DTSTAMP:20260424T164919
CREATED:20240911T204215Z
LAST-MODIFIED:20240911T204215Z
UID:10001621-1730057400-1730066400@www.davenhamplayers.co.uk
SUMMARY:Davenham Comedy Club
DESCRIPTION:Davenham Comedy Club resumes this October\, running monthly (except December) until April 2025 \nLAST SUNDAY OF THE MONTH \n7:30PM AT DAVENHAM THEATRE
URL:https://www.davenhamplayers.co.uk/event-and-production/davenham-comedy-club-3-2/
LOCATION:Davenham Theatre\, 59 Church Street\, Northwich\, CW9 8NF\, United Kingdom
CATEGORIES:Comedy,Featured
ATTACH;FMTTYPE=image/jpeg:https://www.davenhamplayers.co.uk/wp-content/uploads/2024/07/CC-2024-25-scaled.jpg
GEO:53.2367913;-2.5072065
X-APPLE-STRUCTURED-LOCATION;VALUE=URI;X-ADDRESS=Davenham Theatre 59 Church Street Northwich CW9 8NF United Kingdom;X-APPLE-RADIUS=500;X-TITLE=59 Church Street:geo:-2.5072065,53.2367913
END:VEVENT
BEGIN:VEVENT
DTSTART;TZID=Europe/London:20240907T193000
DTEND;TZID=Europe/London:20240907T220000
DTSTAMP:20260424T164919
CREATED:20240702T192315Z
LAST-MODIFIED:20240727T113041Z
UID:10001615-1725737400-1725746400@www.davenhamplayers.co.uk
SUMMARY:Totally Improvised Musical Company
DESCRIPTION:Every night is opening night as these top improvisers compose brand-new comedy musicals from your title suggestions. If you like musicals and you like comedy\, then you’ll love The Totally Improvised Musical! Selling out at festivals across the country\, nominated Best Variety Show at Leicester Comedy Festival 2024\, and coming straight from the Edinburgh Fringe\, this is one night at the theatre you won’t want to miss. A crowd-pleasing night of live music\, laughter and songs with no two shows the same. \n“It’s a fun\, carefree\, and memorable night out that guarantees hilarity\, absurdity\, fantastic vocals\, and catchy songs that you won’t hear anywhere else.” ★★★★½ Frankly My Dear UK \n“This Totally Improvised Musical certainly entertained and satisfied its audience and showed every sign of being able to do it again\, and again\, and again\, and…” Graham Jowett\, Buxton Fringe Review 2023 \n“Loved it\, as did my husband who isn’t a musicals fan like I am! Very highly recommended.” Audience Review edfringe.com 2023 \nThe team won Best Alternative Act at the North West Comedy Awards 2022 with their show ComedySportz and now the Totally Improvised Musical is thrilling audiences across the UK\, with sell-out shows and rave reviews. Previous musical titles have included Vampires from Hull\, Lawnmowers: The Musical!\, The First Primark in Space and My Grandma Is A Parasite \nWhat will your musical be about? Book now to find out… And if the gang use your suggestion\, you win a prize! \nTickets @ £12.00 from our Ticket Shop at https://www.ticketsource.co.uk/davenhamplayers
URL:https://www.davenhamplayers.co.uk/event-and-production/totally-improvised-musical-company/
LOCATION:Davenham Theatre\, 59 Church Street\, Northwich\, CW9 8NF\, United Kingdom
CATEGORIES:Comedy,Music,Featured
ATTACH;FMTTYPE=image/jpeg:https://www.davenhamplayers.co.uk/wp-content/uploads/2024/07/TIM-16_9.jpg
GEO:53.2367913;-2.5072065
X-APPLE-STRUCTURED-LOCATION;VALUE=URI;X-ADDRESS=Davenham Theatre 59 Church Street Northwich CW9 8NF United Kingdom;X-APPLE-RADIUS=500;X-TITLE=59 Church Street:geo:-2.5072065,53.2367913
END:VEVENT
BEGIN:VEVENT
DTSTART;TZID=Europe/London:20240526T193000
DTEND;TZID=Europe/London:20240526T223000
DTSTAMP:20260424T164919
CREATED:20240516T134754Z
LAST-MODIFIED:20240522T184144Z
UID:10001004-1716751800-1716762600@www.davenhamplayers.co.uk
SUMMARY:Davenham Comedy Club - CANCELLED
DESCRIPTION:MAY COMEDY CLUB CANCELLED \nWE APOLOGISE FOR THIS SHORT NOTICE \nA FULL REFUND WILL BE AUTOMATICALLY CREDITED TO THOSE WHO HAVE BOOKED ONLINE  \n 
URL:https://www.davenhamplayers.co.uk/event-and-production/davenham-comedy-club-2-7/
LOCATION:Davenham Theatre\, 59 Church Street\, Northwich\, CW9 8NF\, United Kingdom
CATEGORIES:Comedy,Featured
GEO:53.2367913;-2.5072065
X-APPLE-STRUCTURED-LOCATION;VALUE=URI;X-ADDRESS=Davenham Theatre 59 Church Street Northwich CW9 8NF United Kingdom;X-APPLE-RADIUS=500;X-TITLE=59 Church Street:geo:-2.5072065,53.2367913
END:VEVENT
BEGIN:VEVENT
DTSTART;TZID=Europe/London:20240428T193000
DTEND;TZID=Europe/London:20240428T223000
DTSTAMP:20260424T164919
CREATED:20231019T152453Z
LAST-MODIFIED:20240414T094932Z
UID:10000556-1714332600-1714343400@www.davenhamplayers.co.uk
SUMMARY:Davenham Comedy Club
DESCRIPTION:Check our ticket shop for availability @ £13
URL:https://www.davenhamplayers.co.uk/event-and-production/davenham-comedy-club-2-5/
LOCATION:Davenham Theatre\, 59 Church Street\, Northwich\, CW9 8NF\, United Kingdom
CATEGORIES:Comedy,Featured
ATTACH;FMTTYPE=image/jpeg:https://www.davenhamplayers.co.uk/wp-content/uploads/2023/09/2024-Apr-scaled.jpg
GEO:53.2367913;-2.5072065
X-APPLE-STRUCTURED-LOCATION;VALUE=URI;X-ADDRESS=Davenham Theatre 59 Church Street Northwich CW9 8NF United Kingdom;X-APPLE-RADIUS=500;X-TITLE=59 Church Street:geo:-2.5072065,53.2367913
END:VEVENT
BEGIN:VEVENT
DTSTART;TZID=Europe/London:20240331T193000
DTEND;TZID=Europe/London:20240331T223000
DTSTAMP:20260424T164919
CREATED:20231019T152143Z
LAST-MODIFIED:20240326T174925Z
UID:10000555-1711913400-1711924200@www.davenhamplayers.co.uk
SUMMARY:Davenham Comedy Club
DESCRIPTION:LINE-UP SO FAR FOR MARCH COMEDY CLUB\nFREDDY QUINNE\nKATIE TRACY\nCAMERON JAMES\nCHRIS WASHINGTON\nA.N. Other tbc\n(Sally Anne Hayward has had to postpone)\nCheck our ticket shop for availability @ £13
URL:https://www.davenhamplayers.co.uk/event-and-production/davenham-comedy-club-2-4/
LOCATION:Davenham Theatre\, 59 Church Street\, Northwich\, CW9 8NF\, United Kingdom
CATEGORIES:Comedy,Featured
ATTACH;FMTTYPE=image/jpeg:https://www.davenhamplayers.co.uk/wp-content/uploads/2023/09/2024-Mar-scaled.jpg
GEO:53.2367913;-2.5072065
X-APPLE-STRUCTURED-LOCATION;VALUE=URI;X-ADDRESS=Davenham Theatre 59 Church Street Northwich CW9 8NF United Kingdom;X-APPLE-RADIUS=500;X-TITLE=59 Church Street:geo:-2.5072065,53.2367913
END:VEVENT
BEGIN:VEVENT
DTSTART;TZID=Europe/London:20240225T193000
DTEND;TZID=Europe/London:20240225T223000
DTSTAMP:20260424T164919
CREATED:20231019T152019Z
LAST-MODIFIED:20240204T214048Z
UID:10000554-1708889400-1708900200@www.davenhamplayers.co.uk
SUMMARY:Davenham Comedy Club
DESCRIPTION:Check our ticket shop for availability @ £13
URL:https://www.davenhamplayers.co.uk/event-and-production/davenham-comedy-club-2-3/
LOCATION:Davenham Theatre\, 59 Church Street\, Northwich\, CW9 8NF\, United Kingdom
CATEGORIES:Comedy,Featured
ATTACH;FMTTYPE=image/jpeg:https://www.davenhamplayers.co.uk/wp-content/uploads/2023/09/2024-Feb-scaled.jpg
GEO:53.2367913;-2.5072065
X-APPLE-STRUCTURED-LOCATION;VALUE=URI;X-ADDRESS=Davenham Theatre 59 Church Street Northwich CW9 8NF United Kingdom;X-APPLE-RADIUS=500;X-TITLE=59 Church Street:geo:-2.5072065,53.2367913
END:VEVENT
BEGIN:VEVENT
DTSTART;TZID=Europe/London:20240128T193000
DTEND;TZID=Europe/London:20240128T223000
DTSTAMP:20260424T164919
CREATED:20231019T151852Z
LAST-MODIFIED:20231222T113915Z
UID:10000553-1706470200-1706481000@www.davenhamplayers.co.uk
SUMMARY:Davenham Comedy Club
DESCRIPTION:Look out for our Comedy Club on the last Sunday of the month \nCheck our ticket shop for availability @ £13
URL:https://www.davenhamplayers.co.uk/event-and-production/davenham-comedy-club-2-2/
LOCATION:Davenham Theatre\, 59 Church Street\, Northwich\, CW9 8NF\, United Kingdom
CATEGORIES:Comedy,Featured
ATTACH;FMTTYPE=image/jpeg:https://www.davenhamplayers.co.uk/wp-content/uploads/2023/09/2024-Jan-scaled.jpg
GEO:53.2367913;-2.5072065
X-APPLE-STRUCTURED-LOCATION;VALUE=URI;X-ADDRESS=Davenham Theatre 59 Church Street Northwich CW9 8NF United Kingdom;X-APPLE-RADIUS=500;X-TITLE=59 Church Street:geo:-2.5072065,53.2367913
END:VEVENT
BEGIN:VEVENT
DTSTART;TZID=Europe/London:20231126T193000
DTEND;TZID=Europe/London:20231126T223000
DTSTAMP:20260424T164919
CREATED:20231019T152831Z
LAST-MODIFIED:20231116T183924Z
UID:10000552-1701027000-1701037800@www.davenhamplayers.co.uk
SUMMARY:Davenham Comedy Club
DESCRIPTION:Tickets @ £13 available through our ticket shop at \nhttps://www.ticketsource.co.uk/davenhamplayers
URL:https://www.davenhamplayers.co.uk/event-and-production/davenham-comedy-club-2023-06-25-2-3/
LOCATION:Davenham Theatre\, 59 Church Street\, Northwich\, CW9 8NF\, United Kingdom
CATEGORIES:Comedy,Featured
ATTACH;FMTTYPE=image/jpeg:https://www.davenhamplayers.co.uk/wp-content/uploads/2023/09/2023-Nov-scaled.jpg
GEO:53.2367913;-2.5072065
X-APPLE-STRUCTURED-LOCATION;VALUE=URI;X-ADDRESS=Davenham Theatre 59 Church Street Northwich CW9 8NF United Kingdom;X-APPLE-RADIUS=500;X-TITLE=59 Church Street:geo:-2.5072065,53.2367913
END:VEVENT
BEGIN:VEVENT
DTSTART;TZID=Europe/London:20231029T193000
DTEND;TZID=Europe/London:20231029T223000
DTSTAMP:20260424T164919
CREATED:20230907T085318Z
LAST-MODIFIED:20231008T162655Z
UID:10000026-1698607800-1698618600@www.davenhamplayers.co.uk
SUMMARY:Davenham Comedy Club
DESCRIPTION:Tickets @ £13 now available through our ticket shop at https://www.ticketsource.co.uk/davenhamplayers
URL:https://www.davenhamplayers.co.uk/event-and-production/davenham-comedy-club-2023-06-25-2-2/
LOCATION:Davenham Theatre\, 59 Church Street\, Northwich\, CW9 8NF\, United Kingdom
CATEGORIES:Comedy,Featured
GEO:53.2367913;-2.5072065
X-APPLE-STRUCTURED-LOCATION;VALUE=URI;X-ADDRESS=Davenham Theatre 59 Church Street Northwich CW9 8NF United Kingdom;X-APPLE-RADIUS=500;X-TITLE=59 Church Street:geo:-2.5072065,53.2367913
END:VEVENT
BEGIN:VEVENT
DTSTART;TZID=Europe/London:20230919T193000
DTEND;TZID=Europe/London:20230919T220000
DTSTAMP:20260424T164919
CREATED:20230919T133542Z
LAST-MODIFIED:20230919T133542Z
UID:10000268-1695151800-1695160800@www.davenhamplayers.co.uk
SUMMARY:"Rules for Living" by Sam Holcroft
DESCRIPTION:RULES FOR LIVING\nby Sam Holcroft\nSeptember 18th to 21st and 23rd 2023\nEveryone creates their own coping strategies or ‘rules for living’\, but what happens when an extended family gathers in the dining room for a traditional Christmas and they each follow those rules\, rigidly?\nIn Sam Holcroft’s theatrically playful\, dark comedy the family does just that. And when the instructions are there for all to see\, audience included\, there’s really no place to hide. \nAs long-held mechanisms for survival are laid bare\, even Mum\, who’s been preparing this lunch since last January\, becomes embroiled. \nLong-held rivalries and resentments will out. Accusations fly\, relationships deconstruct\, the rules take over and a fast-paced comic delight ensues! \nTICKETS @ £12 NOW AVAILABLE\nCHECK OUT OUR SEASON TICKET OFFER\nFOUR PLAYS FOR THE COST OF THREE\nCHECK OUT OUR TICKET SHOP AT \nhttps://www.ticketsource.co.uk/davenhamplayers
URL:https://www.davenhamplayers.co.uk/event-and-production/rules-for-living-by-sam-holcroft-2-3/
LOCATION:Davenham Theatre\, 59 Church Street\, Northwich\, CW9 8NF\, United Kingdom
CATEGORIES:Comedy,Drama,Featured
ORGANIZER;CN="Paulette Anderson":MAILTO:donpolander@tiscali.co.uk
GEO:53.2367913;-2.5072065
X-APPLE-STRUCTURED-LOCATION;VALUE=URI;X-ADDRESS=Davenham Theatre 59 Church Street Northwich CW9 8NF United Kingdom;X-APPLE-RADIUS=500;X-TITLE=59 Church Street:geo:-2.5072065,53.2367913
END:VEVENT
BEGIN:VEVENT
DTSTART;TZID=Europe/London:20230528T193000
DTEND;TZID=Europe/London:20230528T223000
DTSTAMP:20260424T164919
CREATED:20230402T204148Z
LAST-MODIFIED:20230524T223249Z
UID:10000519-1685302200-1685313000@www.davenhamplayers.co.uk
SUMMARY:Davenham Comedy Club
DESCRIPTION:DAVENHAM COMEDY CLUB \nSPECIAL ANNOUNCEMENT – This month we welcome back two popular artists:- \nJustin Moorhouse – Manchester United supporter and Coronation Street character\nAND \nDanny Mcloughlin\nTickets as usual are available through our ticket shop at https://www.ticketsource.co.uk/davenhamplayers
URL:https://www.davenhamplayers.co.uk/event-and-production/davenham-comedy-club-2023-05-28/
LOCATION:Davenham Theatre\, 59 Church Street\, Northwich\, CW9 8NF\, United Kingdom
CATEGORIES:Comedy,Featured
ATTACH;FMTTYPE=image/png:https://www.davenhamplayers.co.uk/wp-content/uploads/2023/01/20230318_115726_0000.png
GEO:53.2367913;-2.5072065
X-APPLE-STRUCTURED-LOCATION;VALUE=URI;X-ADDRESS=Davenham Theatre 59 Church Street Northwich CW9 8NF United Kingdom;X-APPLE-RADIUS=500;X-TITLE=59 Church Street:geo:-2.5072065,53.2367913
END:VEVENT
BEGIN:VEVENT
DTSTART;TZID=Europe/London:20230430T193000
DTEND;TZID=Europe/London:20230430T223000
DTSTAMP:20260424T164919
CREATED:20230402T204148Z
LAST-MODIFIED:20230427T152113Z
UID:10000521-1682883000-1682893800@www.davenhamplayers.co.uk
SUMMARY:Davenham Comedy Club
DESCRIPTION:DAVENHAM COMEDY CLUB \nAfter a successful three month trial period\, we have decided to continue Comedy Club for another three sessions on last Sundays in April\, May and June. \nWe have taken the decision to increase the ticket price a little to allow us to attract a wider range of comedy artists and hope our audiences continue to enjoy our comedy nights even better than before! \nTickets as usual are available through our ticket shop at https://www.ticketsource.co.uk/davenhamplayers
URL:https://www.davenhamplayers.co.uk/event-and-production/davenham-comedy-club/
LOCATION:Davenham Theatre\, 59 Church Street\, Northwich\, CW9 8NF\, United Kingdom
CATEGORIES:Comedy,Featured
ATTACH;FMTTYPE=image/png:https://www.davenhamplayers.co.uk/wp-content/uploads/2023/01/20230318_115726_0000.png
GEO:53.2367913;-2.5072065
X-APPLE-STRUCTURED-LOCATION;VALUE=URI;X-ADDRESS=Davenham Theatre 59 Church Street Northwich CW9 8NF United Kingdom;X-APPLE-RADIUS=500;X-TITLE=59 Church Street:geo:-2.5072065,53.2367913
END:VEVENT
BEGIN:VEVENT
DTSTART;TZID=Europe/London:20230326T193000
DTEND;TZID=Europe/London:20230326T220000
DTSTAMP:20260424T164919
CREATED:20230113T090405Z
LAST-MODIFIED:20230318T121202Z
UID:10000525-1679859000-1679868000@www.davenhamplayers.co.uk
SUMMARY:Davenham Comedy Night
DESCRIPTION:We are very excited to announce our BRAND NEW\, COMEDY NIGHTS!! \nBrennan Reece is helping us to bring even more comedic talent through our doors. \nBook now for a chuckle muscle workout on the last Sunday of March! \nShow starts at 7.30pm – doors and bar open from 7pm. \nTickets @ £13 available now from our ticket shop https://www.ticketsource.co.uk/davenhamplayers
URL:https://www.davenhamplayers.co.uk/event-and-production/davenham-comedy-night-3/
LOCATION:Davenham Theatre\, 59 Church Street\, Northwich\, CW9 8NF\, United Kingdom
CATEGORIES:Comedy,Featured
ATTACH;FMTTYPE=image/png:https://www.davenhamplayers.co.uk/wp-content/uploads/2023/01/20230318_115726_0000.png
GEO:53.2367913;-2.5072065
X-APPLE-STRUCTURED-LOCATION;VALUE=URI;X-ADDRESS=Davenham Theatre 59 Church Street Northwich CW9 8NF United Kingdom;X-APPLE-RADIUS=500;X-TITLE=59 Church Street:geo:-2.5072065,53.2367913
END:VEVENT
BEGIN:VEVENT
DTSTART;TZID=Europe/London:20230226T193000
DTEND;TZID=Europe/London:20230226T220000
DTSTAMP:20260424T164919
CREATED:20230113T085831Z
LAST-MODIFIED:20230129T205341Z
UID:10000526-1677439800-1677448800@www.davenhamplayers.co.uk
SUMMARY:Davenham Comedy Night
DESCRIPTION:We are very excited to announce our BRAND NEW\, COMEDY NIGHTS!! \nBrennan Reece is helping us to bring even more comedic talent through our doors. \nBook now to work your chuckle muscles on the last Sunday of February and March! \nShow starts at 7.30pm – doors and bar open from 7pm. \nTickets @ £11 available soon from our ticket shop https://www.ticketsource.co.uk/davenhamplayers
URL:https://www.davenhamplayers.co.uk/event-and-production/davenham-comedy-night-2/
LOCATION:Davenham Theatre\, 59 Church Street\, Northwich\, CW9 8NF\, United Kingdom
CATEGORIES:Comedy,Featured
ATTACH;FMTTYPE=image/png:https://www.davenhamplayers.co.uk/wp-content/uploads/2023/01/png_20230113_005141_0000.png
GEO:53.2367913;-2.5072065
X-APPLE-STRUCTURED-LOCATION;VALUE=URI;X-ADDRESS=Davenham Theatre 59 Church Street Northwich CW9 8NF United Kingdom;X-APPLE-RADIUS=500;X-TITLE=59 Church Street:geo:-2.5072065,53.2367913
END:VEVENT
BEGIN:VEVENT
DTSTART;TZID=Europe/London:20230129T193000
DTEND;TZID=Europe/London:20230129T220000
DTSTAMP:20260424T164919
CREATED:20230102T103658Z
LAST-MODIFIED:20230824T145636Z
UID:10000280-1675020600-1675029600@www.davenhamplayers.co.uk
SUMMARY:Davenham Comedy Night
DESCRIPTION:JANUARY EVENT SOLD OUT RETURNS ONLY\nBUT FEBRUARY AND MARCH COMEDY COMING UP SOON\n\n\n\nX\n\n\n\n\n\nAfter the huge success of welcoming Brennan Reece & Justin Moorhouse last summer…\nWe are very excited to announce our BRAND NEW\, COMEDY NIGHTS!! \nBrennan will be helping us to bring even more comedic talent through our doors. \nBook now to work your chuckle muscles on the last Sunday of January\, February and March! \nShow starts at 7.30pm – doors and bar open from 7pm. \nTickets @ £11 available now at our ticket shop https://www.ticketsource.co.uk/davenhamplayers
URL:https://www.davenhamplayers.co.uk/event-and-production/davenham-comedy-night/
LOCATION:Davenham Theatre\, 59 Church Street\, Northwich\, CW9 8NF\, United Kingdom
CATEGORIES:Comedy,Featured
ATTACH;FMTTYPE=image/png:https://www.davenhamplayers.co.uk/wp-content/uploads/2023/01/png_20230113_005141_0000.png
GEO:53.2367913;-2.5072065
X-APPLE-STRUCTURED-LOCATION;VALUE=URI;X-ADDRESS=Davenham Theatre 59 Church Street Northwich CW9 8NF United Kingdom;X-APPLE-RADIUS=500;X-TITLE=59 Church Street:geo:-2.5072065,53.2367913
END:VEVENT
END:VCALENDAR