BEGIN:VCALENDAR
VERSION:2.0
PRODID:-//The Davenham Players - ECPv6.15.20//NONSGML v1.0//EN
CALSCALE:GREGORIAN
METHOD:PUBLISH
X-WR-CALNAME:The Davenham Players
X-ORIGINAL-URL:https://www.davenhamplayers.co.uk
X-WR-CALDESC:Events for The Davenham Players
REFRESH-INTERVAL;VALUE=DURATION:PT1H
X-Robots-Tag:noindex
X-PUBLISHED-TTL:PT1H
BEGIN:VTIMEZONE
TZID:Europe/London
BEGIN:DAYLIGHT
TZOFFSETFROM:+0000
TZOFFSETTO:+0100
TZNAME:BST
DTSTART:20230326T010000
END:DAYLIGHT
BEGIN:STANDARD
TZOFFSETFROM:+0100
TZOFFSETTO:+0000
TZNAME:GMT
DTSTART:20231029T010000
END:STANDARD
BEGIN:DAYLIGHT
TZOFFSETFROM:+0000
TZOFFSETTO:+0100
TZNAME:BST
DTSTART:20240331T010000
END:DAYLIGHT
BEGIN:STANDARD
TZOFFSETFROM:+0100
TZOFFSETTO:+0000
TZNAME:GMT
DTSTART:20241027T010000
END:STANDARD
BEGIN:DAYLIGHT
TZOFFSETFROM:+0000
TZOFFSETTO:+0100
TZNAME:BST
DTSTART:20250330T010000
END:DAYLIGHT
BEGIN:STANDARD
TZOFFSETFROM:+0100
TZOFFSETTO:+0000
TZNAME:GMT
DTSTART:20251026T010000
END:STANDARD
END:VTIMEZONE
BEGIN:VEVENT
DTSTART;TZID=Europe/London:20240220T193000
DTEND;TZID=Europe/London:20240220T220000
DTSTAMP:20260426T050404
CREATED:20240105T194734Z
LAST-MODIFIED:20240105T194734Z
UID:10000534-1708457400-1708466400@www.davenhamplayers.co.uk
SUMMARY:Heaven Sent by Sebastien Thiery
DESCRIPTION:This hilarious\, critically acclaimed and zany farce features mysterious chaos caused by materialism and human greed\nThe original play\, written in French and set in Paris by Sebastian Thiery\, was recently translated into English and relocated to Manchester’s suburbia by Charlie Gobbett\, winner of the Dramatic Achievement Award in the 2022-23 Cheshire Theatre Guild Festival\nHEAVEN SENT by Sebastien Thiery\n20TH – 24TH FEBRUARY 2024 AT 7:30PM\nTICKETS @ £12 NOW ON SALE!\nhttps://www.ticketsource.co.uk/davenhamplayers
URL:https://www.davenhamplayers.co.uk/event-and-production/heaven-sent-by-sebastien-thiery-2/
LOCATION:Davenham Theatre\, 59 Church Street\, Northwich\, CW9 8NF\, United Kingdom
CATEGORIES:Drama,Featured
GEO:53.2367913;-2.5072065
X-APPLE-STRUCTURED-LOCATION;VALUE=URI;X-ADDRESS=Davenham Theatre 59 Church Street Northwich CW9 8NF United Kingdom;X-APPLE-RADIUS=500;X-TITLE=59 Church Street:geo:-2.5072065,53.2367913
END:VEVENT
BEGIN:VEVENT
DTSTART;TZID=Europe/London:20240221T193000
DTEND;TZID=Europe/London:20240221T220000
DTSTAMP:20260426T050404
CREATED:20230813T175525Z
LAST-MODIFIED:20231005T104452Z
UID:10000535-1708543800-1708552800@www.davenhamplayers.co.uk
SUMMARY:Heaven Sent by Sebastien Thiery
DESCRIPTION:This hilarious\, critically acclaimed and zany farce features mysterious chaos caused by materialism and human greed\nThe original play\, written in French and set in Paris by Sebastian Thiery\, was recently translated into English and relocated to Manchester’s suburbia by Charlie Gobbett\, winner of the Dramatic Achievement Award in the 2022-23 Cheshire Theatre Guild Festival\nHEAVEN SENT by Sebastien Thiery\n20TH – 24TH FEBRUARY 2024 AT 7:30PM\nTICKETS @ £12 NOW ON SALE!\nhttps://www.ticketsource.co.uk/davenhamplayers
URL:https://www.davenhamplayers.co.uk/event-and-production/heaven-sent-by-sebastien-thiery/2024-02-21/
LOCATION:Davenham Theatre\, 59 Church Street\, Northwich\, CW9 8NF\, United Kingdom
CATEGORIES:Drama
GEO:53.2367913;-2.5072065
X-APPLE-STRUCTURED-LOCATION;VALUE=URI;X-ADDRESS=Davenham Theatre 59 Church Street Northwich CW9 8NF United Kingdom;X-APPLE-RADIUS=500;X-TITLE=59 Church Street:geo:-2.5072065,53.2367913
END:VEVENT
BEGIN:VEVENT
DTSTART;TZID=Europe/London:20240222T193000
DTEND;TZID=Europe/London:20240222T220000
DTSTAMP:20260426T050404
CREATED:20230813T175525Z
LAST-MODIFIED:20231005T104452Z
UID:10000536-1708630200-1708639200@www.davenhamplayers.co.uk
SUMMARY:Heaven Sent by Sebastien Thiery
DESCRIPTION:This hilarious\, critically acclaimed and zany farce features mysterious chaos caused by materialism and human greed\nThe original play\, written in French and set in Paris by Sebastian Thiery\, was recently translated into English and relocated to Manchester’s suburbia by Charlie Gobbett\, winner of the Dramatic Achievement Award in the 2022-23 Cheshire Theatre Guild Festival\nHEAVEN SENT by Sebastien Thiery\n20TH – 24TH FEBRUARY 2024 AT 7:30PM\nTICKETS @ £12 NOW ON SALE!\nhttps://www.ticketsource.co.uk/davenhamplayers
URL:https://www.davenhamplayers.co.uk/event-and-production/heaven-sent-by-sebastien-thiery/2024-02-22/
LOCATION:Davenham Theatre\, 59 Church Street\, Northwich\, CW9 8NF\, United Kingdom
CATEGORIES:Drama
GEO:53.2367913;-2.5072065
X-APPLE-STRUCTURED-LOCATION;VALUE=URI;X-ADDRESS=Davenham Theatre 59 Church Street Northwich CW9 8NF United Kingdom;X-APPLE-RADIUS=500;X-TITLE=59 Church Street:geo:-2.5072065,53.2367913
END:VEVENT
BEGIN:VEVENT
DTSTART;TZID=Europe/London:20240223T193000
DTEND;TZID=Europe/London:20240223T220000
DTSTAMP:20260426T050404
CREATED:20230813T175525Z
LAST-MODIFIED:20231005T104452Z
UID:10000537-1708716600-1708725600@www.davenhamplayers.co.uk
SUMMARY:Heaven Sent by Sebastien Thiery
DESCRIPTION:This hilarious\, critically acclaimed and zany farce features mysterious chaos caused by materialism and human greed\nThe original play\, written in French and set in Paris by Sebastian Thiery\, was recently translated into English and relocated to Manchester’s suburbia by Charlie Gobbett\, winner of the Dramatic Achievement Award in the 2022-23 Cheshire Theatre Guild Festival\nHEAVEN SENT by Sebastien Thiery\n20TH – 24TH FEBRUARY 2024 AT 7:30PM\nTICKETS @ £12 NOW ON SALE!\nhttps://www.ticketsource.co.uk/davenhamplayers
URL:https://www.davenhamplayers.co.uk/event-and-production/heaven-sent-by-sebastien-thiery/2024-02-23/
LOCATION:Davenham Theatre\, 59 Church Street\, Northwich\, CW9 8NF\, United Kingdom
CATEGORIES:Drama
GEO:53.2367913;-2.5072065
X-APPLE-STRUCTURED-LOCATION;VALUE=URI;X-ADDRESS=Davenham Theatre 59 Church Street Northwich CW9 8NF United Kingdom;X-APPLE-RADIUS=500;X-TITLE=59 Church Street:geo:-2.5072065,53.2367913
END:VEVENT
BEGIN:VEVENT
DTSTART;TZID=Europe/London:20240224T193000
DTEND;TZID=Europe/London:20240224T220000
DTSTAMP:20260426T050404
CREATED:20230813T175525Z
LAST-MODIFIED:20231005T104452Z
UID:10000538-1708803000-1708812000@www.davenhamplayers.co.uk
SUMMARY:Heaven Sent by Sebastien Thiery
DESCRIPTION:This hilarious\, critically acclaimed and zany farce features mysterious chaos caused by materialism and human greed\nThe original play\, written in French and set in Paris by Sebastian Thiery\, was recently translated into English and relocated to Manchester’s suburbia by Charlie Gobbett\, winner of the Dramatic Achievement Award in the 2022-23 Cheshire Theatre Guild Festival\nHEAVEN SENT by Sebastien Thiery\n20TH – 24TH FEBRUARY 2024 AT 7:30PM\nTICKETS @ £12 NOW ON SALE!\nhttps://www.ticketsource.co.uk/davenhamplayers
URL:https://www.davenhamplayers.co.uk/event-and-production/heaven-sent-by-sebastien-thiery/2024-02-24/
LOCATION:Davenham Theatre\, 59 Church Street\, Northwich\, CW9 8NF\, United Kingdom
CATEGORIES:Drama
GEO:53.2367913;-2.5072065
X-APPLE-STRUCTURED-LOCATION;VALUE=URI;X-ADDRESS=Davenham Theatre 59 Church Street Northwich CW9 8NF United Kingdom;X-APPLE-RADIUS=500;X-TITLE=59 Church Street:geo:-2.5072065,53.2367913
END:VEVENT
END:VCALENDAR