BEGIN:VCALENDAR
VERSION:2.0
PRODID:-//The Davenham Players - ECPv6.15.20//NONSGML v1.0//EN
CALSCALE:GREGORIAN
METHOD:PUBLISH
X-ORIGINAL-URL:https://www.davenhamplayers.co.uk
X-WR-CALDESC:Events for The Davenham Players
REFRESH-INTERVAL;VALUE=DURATION:PT1H
X-Robots-Tag:noindex
X-PUBLISHED-TTL:PT1H
BEGIN:VTIMEZONE
TZID:Europe/London
BEGIN:DAYLIGHT
TZOFFSETFROM:+0000
TZOFFSETTO:+0100
TZNAME:BST
DTSTART:20230326T010000
END:DAYLIGHT
BEGIN:STANDARD
TZOFFSETFROM:+0100
TZOFFSETTO:+0000
TZNAME:GMT
DTSTART:20231029T010000
END:STANDARD
BEGIN:DAYLIGHT
TZOFFSETFROM:+0000
TZOFFSETTO:+0100
TZNAME:BST
DTSTART:20240331T010000
END:DAYLIGHT
BEGIN:STANDARD
TZOFFSETFROM:+0100
TZOFFSETTO:+0000
TZNAME:GMT
DTSTART:20241027T010000
END:STANDARD
BEGIN:DAYLIGHT
TZOFFSETFROM:+0000
TZOFFSETTO:+0100
TZNAME:BST
DTSTART:20250330T010000
END:DAYLIGHT
BEGIN:STANDARD
TZOFFSETFROM:+0100
TZOFFSETTO:+0000
TZNAME:GMT
DTSTART:20251026T010000
END:STANDARD
END:VTIMEZONE
BEGIN:VEVENT
DTSTART;TZID=Europe/London:20241105T193000
DTEND;TZID=Europe/London:20241105T220000
DTSTAMP:20260425T173259
CREATED:20241016T144345Z
LAST-MODIFIED:20241016T144346Z
UID:10000964-1730835000-1730844000@www.davenhamplayers.co.uk
SUMMARY:The Revlon Girl by Neil Anthony Docking
DESCRIPTION:The Revlon Girl by Neil Anthony Docking is set in Aberfan 8 months after the disaster in which one of the waste tips above the mining village of Aberfan in South Wales slid down the valley killing 144 people\,116 of which were children from the local primary school. \nThe play is about four women who\, having lost children in the disaster\, wish to bring back some sort of normality into their lives by inviting a representative from the cosmetic company Revlon to give them some beauty tips. \nThe play is full of pathos\, humour and hope. \nThe Revlon Girl is directed by Paulette Anderson and runs from\nTuesday 5th November 2024 to Saturday 9th November 2024\nDoors and Bar Open 7:00pm. Show at 7:30pm\nTickets @ £12 available from our TicketSource shop at\nhttps://www.ticketsource.co.uk/davenhamplayers
URL:https://www.davenhamplayers.co.uk/event-and-production/the-revlon-girl-by-neil-anthony-docking-2/
LOCATION:Davenham Theatre\, 59 Church Street\, Northwich\, CW9 8NF\, United Kingdom
CATEGORIES:Drama,Featured
ORGANIZER;CN="Paulette Anderson":MAILTO:donpolander@tiscali.co.uk
GEO:53.2367913;-2.5072065
X-APPLE-STRUCTURED-LOCATION;VALUE=URI;X-ADDRESS=Davenham Theatre 59 Church Street Northwich CW9 8NF United Kingdom;X-APPLE-RADIUS=500;X-TITLE=59 Church Street:geo:-2.5072065,53.2367913
END:VEVENT
BEGIN:VEVENT
DTSTART;TZID=Europe/London:20241106T193000
DTEND;TZID=Europe/London:20241106T220000
DTSTAMP:20260425T173259
CREATED:20231118T165653Z
LAST-MODIFIED:20240822T140222Z
UID:10000965-1730921400-1730930400@www.davenhamplayers.co.uk
SUMMARY:The Revlon Girl by Neil Anthony Docking
DESCRIPTION:The Revlon Girl by Neil Anthony Docking is set in Aberfan 8 months after the disaster in which one of the waste tips above the mining village of Aberfan in South Wales slid down the valley killing 144 people\,116 of which were children from the local primary school. \nThe play is about four women who\, having lost children in the disaster\, wish to bring back some sort of normality into their lives by inviting a representative from the cosmetic company Revlon to give them some beauty tips. \nThe play is full of pathos\, humour and hope. \nThe Revlon Girl is directed by Paulette Anderson and runs from\nTuesday 5th November 2024 to Saturday 9th November 2024\nDoors and Bar Open 7:00pm. Show at 7:30pm\nTickets @ £12 available from our TicketSource shop at\nhttps://www.ticketsource.co.uk/davenhamplayers
URL:https://www.davenhamplayers.co.uk/event-and-production/the-revlon-girl-by-neil-anthony-docking/2024-11-06/
LOCATION:Davenham Theatre\, 59 Church Street\, Northwich\, CW9 8NF\, United Kingdom
CATEGORIES:Drama
ORGANIZER;CN="Paulette Anderson":MAILTO:donpolander@tiscali.co.uk
GEO:53.2367913;-2.5072065
X-APPLE-STRUCTURED-LOCATION;VALUE=URI;X-ADDRESS=Davenham Theatre 59 Church Street Northwich CW9 8NF United Kingdom;X-APPLE-RADIUS=500;X-TITLE=59 Church Street:geo:-2.5072065,53.2367913
END:VEVENT
BEGIN:VEVENT
DTSTART;TZID=Europe/London:20241107T193000
DTEND;TZID=Europe/London:20241107T220000
DTSTAMP:20260425T173259
CREATED:20231118T165653Z
LAST-MODIFIED:20240822T140222Z
UID:10000966-1731007800-1731016800@www.davenhamplayers.co.uk
SUMMARY:The Revlon Girl by Neil Anthony Docking
DESCRIPTION:The Revlon Girl by Neil Anthony Docking is set in Aberfan 8 months after the disaster in which one of the waste tips above the mining village of Aberfan in South Wales slid down the valley killing 144 people\,116 of which were children from the local primary school. \nThe play is about four women who\, having lost children in the disaster\, wish to bring back some sort of normality into their lives by inviting a representative from the cosmetic company Revlon to give them some beauty tips. \nThe play is full of pathos\, humour and hope. \nThe Revlon Girl is directed by Paulette Anderson and runs from\nTuesday 5th November 2024 to Saturday 9th November 2024\nDoors and Bar Open 7:00pm. Show at 7:30pm\nTickets @ £12 available from our TicketSource shop at\nhttps://www.ticketsource.co.uk/davenhamplayers
URL:https://www.davenhamplayers.co.uk/event-and-production/the-revlon-girl-by-neil-anthony-docking/2024-11-07/
LOCATION:Davenham Theatre\, 59 Church Street\, Northwich\, CW9 8NF\, United Kingdom
CATEGORIES:Drama
ORGANIZER;CN="Paulette Anderson":MAILTO:donpolander@tiscali.co.uk
GEO:53.2367913;-2.5072065
X-APPLE-STRUCTURED-LOCATION;VALUE=URI;X-ADDRESS=Davenham Theatre 59 Church Street Northwich CW9 8NF United Kingdom;X-APPLE-RADIUS=500;X-TITLE=59 Church Street:geo:-2.5072065,53.2367913
END:VEVENT
BEGIN:VEVENT
DTSTART;TZID=Europe/London:20241108T193000
DTEND;TZID=Europe/London:20241108T220000
DTSTAMP:20260425T173259
CREATED:20231118T165653Z
LAST-MODIFIED:20240822T140222Z
UID:10000967-1731094200-1731103200@www.davenhamplayers.co.uk
SUMMARY:The Revlon Girl by Neil Anthony Docking
DESCRIPTION:The Revlon Girl by Neil Anthony Docking is set in Aberfan 8 months after the disaster in which one of the waste tips above the mining village of Aberfan in South Wales slid down the valley killing 144 people\,116 of which were children from the local primary school. \nThe play is about four women who\, having lost children in the disaster\, wish to bring back some sort of normality into their lives by inviting a representative from the cosmetic company Revlon to give them some beauty tips. \nThe play is full of pathos\, humour and hope. \nThe Revlon Girl is directed by Paulette Anderson and runs from\nTuesday 5th November 2024 to Saturday 9th November 2024\nDoors and Bar Open 7:00pm. Show at 7:30pm\nTickets @ £12 available from our TicketSource shop at\nhttps://www.ticketsource.co.uk/davenhamplayers
URL:https://www.davenhamplayers.co.uk/event-and-production/the-revlon-girl-by-neil-anthony-docking/2024-11-08/
LOCATION:Davenham Theatre\, 59 Church Street\, Northwich\, CW9 8NF\, United Kingdom
CATEGORIES:Drama
ORGANIZER;CN="Paulette Anderson":MAILTO:donpolander@tiscali.co.uk
GEO:53.2367913;-2.5072065
X-APPLE-STRUCTURED-LOCATION;VALUE=URI;X-ADDRESS=Davenham Theatre 59 Church Street Northwich CW9 8NF United Kingdom;X-APPLE-RADIUS=500;X-TITLE=59 Church Street:geo:-2.5072065,53.2367913
END:VEVENT
BEGIN:VEVENT
DTSTART;TZID=Europe/London:20241109T193000
DTEND;TZID=Europe/London:20241109T220000
DTSTAMP:20260425T173259
CREATED:20231118T165653Z
LAST-MODIFIED:20240822T140222Z
UID:10000968-1731180600-1731189600@www.davenhamplayers.co.uk
SUMMARY:The Revlon Girl by Neil Anthony Docking
DESCRIPTION:The Revlon Girl by Neil Anthony Docking is set in Aberfan 8 months after the disaster in which one of the waste tips above the mining village of Aberfan in South Wales slid down the valley killing 144 people\,116 of which were children from the local primary school. \nThe play is about four women who\, having lost children in the disaster\, wish to bring back some sort of normality into their lives by inviting a representative from the cosmetic company Revlon to give them some beauty tips. \nThe play is full of pathos\, humour and hope. \nThe Revlon Girl is directed by Paulette Anderson and runs from\nTuesday 5th November 2024 to Saturday 9th November 2024\nDoors and Bar Open 7:00pm. Show at 7:30pm\nTickets @ £12 available from our TicketSource shop at\nhttps://www.ticketsource.co.uk/davenhamplayers
URL:https://www.davenhamplayers.co.uk/event-and-production/the-revlon-girl-by-neil-anthony-docking/2024-11-09/
LOCATION:Davenham Theatre\, 59 Church Street\, Northwich\, CW9 8NF\, United Kingdom
CATEGORIES:Drama
ORGANIZER;CN="Paulette Anderson":MAILTO:donpolander@tiscali.co.uk
GEO:53.2367913;-2.5072065
X-APPLE-STRUCTURED-LOCATION;VALUE=URI;X-ADDRESS=Davenham Theatre 59 Church Street Northwich CW9 8NF United Kingdom;X-APPLE-RADIUS=500;X-TITLE=59 Church Street:geo:-2.5072065,53.2367913
END:VEVENT
END:VCALENDAR