BEGIN:VCALENDAR
VERSION:2.0
PRODID:-//The Davenham Players - ECPv6.15.20//NONSGML v1.0//EN
CALSCALE:GREGORIAN
METHOD:PUBLISH
X-ORIGINAL-URL:https://www.davenhamplayers.co.uk
X-WR-CALDESC:Events for The Davenham Players
REFRESH-INTERVAL;VALUE=DURATION:PT1H
X-Robots-Tag:noindex
X-PUBLISHED-TTL:PT1H
BEGIN:VTIMEZONE
TZID:Europe/London
BEGIN:DAYLIGHT
TZOFFSETFROM:+0000
TZOFFSETTO:+0100
TZNAME:BST
DTSTART:20230326T010000
END:DAYLIGHT
BEGIN:STANDARD
TZOFFSETFROM:+0100
TZOFFSETTO:+0000
TZNAME:GMT
DTSTART:20231029T010000
END:STANDARD
BEGIN:DAYLIGHT
TZOFFSETFROM:+0000
TZOFFSETTO:+0100
TZNAME:BST
DTSTART:20240331T010000
END:DAYLIGHT
BEGIN:STANDARD
TZOFFSETFROM:+0100
TZOFFSETTO:+0000
TZNAME:GMT
DTSTART:20241027T010000
END:STANDARD
BEGIN:DAYLIGHT
TZOFFSETFROM:+0000
TZOFFSETTO:+0100
TZNAME:BST
DTSTART:20250330T010000
END:DAYLIGHT
BEGIN:STANDARD
TZOFFSETFROM:+0100
TZOFFSETTO:+0000
TZNAME:GMT
DTSTART:20251026T010000
END:STANDARD
END:VTIMEZONE
BEGIN:VEVENT
DTSTART;TZID=Europe/London:20241218T193000
DTEND;TZID=Europe/London:20241218T220000
DTSTAMP:20260425T161336
CREATED:20241125T102458Z
LAST-MODIFIED:20241126T223714Z
UID:10001742-1734550200-1734559200@www.davenhamplayers.co.uk
SUMMARY:Little Pixie Productions present A Christmas Carol
DESCRIPTION:Little Pixie Productions present:\nA Christmas Carol\n18th and 20th December 7.30pm (Doors & Bar 7pm) \nTickets £10 \nAvailable at: L J Little Dancewear – 99 Chester Rd\, Northwich CW8 1HH \nOr call 07702 307 546 \nOr email helena-leonard@ntlworld.com
URL:https://www.davenhamplayers.co.uk/event-and-production/little-pixie-productions-present-a-christmas-carol/
LOCATION:Davenham Theatre\, 59 Church Street\, Northwich\, CW9 8NF\, United Kingdom
CATEGORIES:Drama,Music,Featured
ORGANIZER;CN="Bob Almquist":MAILTO:robert.almquist@btinternet.com
GEO:53.2367913;-2.5072065
X-APPLE-STRUCTURED-LOCATION;VALUE=URI;X-ADDRESS=Davenham Theatre 59 Church Street Northwich CW9 8NF United Kingdom;X-APPLE-RADIUS=500;X-TITLE=59 Church Street:geo:-2.5072065,53.2367913
END:VEVENT
BEGIN:VEVENT
DTSTART;TZID=Europe/London:20241220T193000
DTEND;TZID=Europe/London:20241220T220000
DTSTAMP:20260425T161336
CREATED:20241125T102746Z
LAST-MODIFIED:20241202T102758Z
UID:10001743-1734723000-1734732000@www.davenhamplayers.co.uk
SUMMARY:Little Pixie Productions present A Christmas Carol
DESCRIPTION:Little Pixie Productions present:\nA Christmas Carol\n18th and 20th December 7.30pm (Doors & Bar 7pm) \nTickets £10 \nAvailable at: L J Little Dancewear – 99 Chester Rd\, Northwich CW8 1HH \nOr call 07702 307 546 \nOr email helena-leonard@ntlworld.com
URL:https://www.davenhamplayers.co.uk/event-and-production/little-pixie-productions-present-a-christmas-carol-2/
LOCATION:Davenham Theatre\, 59 Church Street\, Northwich\, CW9 8NF\, United Kingdom
CATEGORIES:Drama,Music,Featured
ORGANIZER;CN="Bob Almquist":MAILTO:robert.almquist@btinternet.com
GEO:53.2367913;-2.5072065
X-APPLE-STRUCTURED-LOCATION;VALUE=URI;X-ADDRESS=Davenham Theatre 59 Church Street Northwich CW9 8NF United Kingdom;X-APPLE-RADIUS=500;X-TITLE=59 Church Street:geo:-2.5072065,53.2367913
END:VEVENT
END:VCALENDAR