BEGIN:VCALENDAR
VERSION:2.0
PRODID:-//The Davenham Players - ECPv6.15.20//NONSGML v1.0//EN
CALSCALE:GREGORIAN
METHOD:PUBLISH
X-ORIGINAL-URL:https://www.davenhamplayers.co.uk
X-WR-CALDESC:Events for The Davenham Players
REFRESH-INTERVAL;VALUE=DURATION:PT1H
X-Robots-Tag:noindex
X-PUBLISHED-TTL:PT1H
BEGIN:VTIMEZONE
TZID:Europe/London
BEGIN:DAYLIGHT
TZOFFSETFROM:+0000
TZOFFSETTO:+0100
TZNAME:BST
DTSTART:20240331T010000
END:DAYLIGHT
BEGIN:STANDARD
TZOFFSETFROM:+0100
TZOFFSETTO:+0000
TZNAME:GMT
DTSTART:20241027T010000
END:STANDARD
BEGIN:DAYLIGHT
TZOFFSETFROM:+0000
TZOFFSETTO:+0100
TZNAME:BST
DTSTART:20250330T010000
END:DAYLIGHT
BEGIN:STANDARD
TZOFFSETFROM:+0100
TZOFFSETTO:+0000
TZNAME:GMT
DTSTART:20251026T010000
END:STANDARD
BEGIN:DAYLIGHT
TZOFFSETFROM:+0000
TZOFFSETTO:+0100
TZNAME:BST
DTSTART:20260329T010000
END:DAYLIGHT
BEGIN:STANDARD
TZOFFSETFROM:+0100
TZOFFSETTO:+0000
TZNAME:GMT
DTSTART:20261025T010000
END:STANDARD
END:VTIMEZONE
BEGIN:VEVENT
DTSTART;TZID=Europe/London:20250304T193000
DTEND;TZID=Europe/London:20250304T220000
DTSTAMP:20260425T120145
CREATED:20250124T175340Z
LAST-MODIFIED:20250124T175340Z
UID:10001224-1741116600-1741125600@www.davenhamplayers.co.uk
SUMMARY:The Importance of Being Earnest by Oscar Wilde
DESCRIPTION:The Importance of Being Earnest – “A trivial play for serious people” is a satirical comedy by Oscar Wilde set in 1895. \nFriends Jack and Algernon weave a tangled web as they endeavour to court Lady Bracknell’s daughter Gwendolyn and Jack’s ward Cecily with a view to marriage. But… \n…they are hampered by the fact that the two young ladies are determined to find a suitor with the name Ernest. \nOur production will be enhanced Edwardian settings and period costumes. \n\n\n\nThe Importance of Being Earnest is directed by Sheila Hetherington and runs from\nTuesday 4th March 2024 to Saturday 8th March 2025\nDoors and Bar Open 7:00pm. Show at 7:30pm\nTickets @ £12 available from our TicketSource shop at\nhttps://www.ticketsource.co.uk/davenhamplayers\n\n\n\n\n\n\n\n\n\n  \n 
URL:https://www.davenhamplayers.co.uk/event-and-production/the-importance-of-being-earnest-by-oscar-wilde-2/
LOCATION:Davenham Theatre\, 59 Church Street\, Northwich\, CW9 8NF\, United Kingdom
CATEGORIES:Drama,Featured
GEO:53.2367913;-2.5072065
X-APPLE-STRUCTURED-LOCATION;VALUE=URI;X-ADDRESS=Davenham Theatre 59 Church Street Northwich CW9 8NF United Kingdom;X-APPLE-RADIUS=500;X-TITLE=59 Church Street:geo:-2.5072065,53.2367913
END:VEVENT
BEGIN:VEVENT
DTSTART;TZID=Europe/London:20250305T193000
DTEND;TZID=Europe/London:20250305T220000
DTSTAMP:20260425T120145
CREATED:20240530T145241Z
LAST-MODIFIED:20240822T140146Z
UID:10001225-1741203000-1741212000@www.davenhamplayers.co.uk
SUMMARY:The Importance of Being Earnest by Oscar Wilde
DESCRIPTION:The Importance of Being Earnest – “A trivial play for serious people” is a satirical comedy by Oscar Wilde set in 1895. \nFriends Jack and Algernon weave a tangled web as they endeavour to court Lady Bracknell’s daughter Gwendolyn and Jack’s ward Cecily with a view to marriage. But… \n…they are hampered by the fact that the two young ladies are determined to find a suitor with the name Ernest. \nOur production will be enhanced Edwardian settings and period costumes. \n\n\n\nThe Importance of Being Earnest is directed by Sheila Hetherington and runs from\nTuesday 4th March 2024 to Saturday 8th March 2025\nDoors and Bar Open 7:00pm. Show at 7:30pm\nTickets @ £12 available from our TicketSource shop at\nhttps://www.ticketsource.co.uk/davenhamplayers\n\n\n\n\n\n\n\n\n\n  \n 
URL:https://www.davenhamplayers.co.uk/event-and-production/the-importance-of-being-earnest-by-oscar-wilde/2025-03-05/
LOCATION:Davenham Theatre\, 59 Church Street\, Northwich\, CW9 8NF\, United Kingdom
CATEGORIES:Drama
GEO:53.2367913;-2.5072065
X-APPLE-STRUCTURED-LOCATION;VALUE=URI;X-ADDRESS=Davenham Theatre 59 Church Street Northwich CW9 8NF United Kingdom;X-APPLE-RADIUS=500;X-TITLE=59 Church Street:geo:-2.5072065,53.2367913
END:VEVENT
BEGIN:VEVENT
DTSTART;TZID=Europe/London:20250306T193000
DTEND;TZID=Europe/London:20250306T220000
DTSTAMP:20260425T120145
CREATED:20240530T145241Z
LAST-MODIFIED:20240822T140146Z
UID:10001226-1741289400-1741298400@www.davenhamplayers.co.uk
SUMMARY:The Importance of Being Earnest by Oscar Wilde
DESCRIPTION:The Importance of Being Earnest – “A trivial play for serious people” is a satirical comedy by Oscar Wilde set in 1895. \nFriends Jack and Algernon weave a tangled web as they endeavour to court Lady Bracknell’s daughter Gwendolyn and Jack’s ward Cecily with a view to marriage. But… \n…they are hampered by the fact that the two young ladies are determined to find a suitor with the name Ernest. \nOur production will be enhanced Edwardian settings and period costumes. \n\n\n\nThe Importance of Being Earnest is directed by Sheila Hetherington and runs from\nTuesday 4th March 2024 to Saturday 8th March 2025\nDoors and Bar Open 7:00pm. Show at 7:30pm\nTickets @ £12 available from our TicketSource shop at\nhttps://www.ticketsource.co.uk/davenhamplayers\n\n\n\n\n\n\n\n\n\n  \n 
URL:https://www.davenhamplayers.co.uk/event-and-production/the-importance-of-being-earnest-by-oscar-wilde/2025-03-06/
LOCATION:Davenham Theatre\, 59 Church Street\, Northwich\, CW9 8NF\, United Kingdom
CATEGORIES:Drama
GEO:53.2367913;-2.5072065
X-APPLE-STRUCTURED-LOCATION;VALUE=URI;X-ADDRESS=Davenham Theatre 59 Church Street Northwich CW9 8NF United Kingdom;X-APPLE-RADIUS=500;X-TITLE=59 Church Street:geo:-2.5072065,53.2367913
END:VEVENT
BEGIN:VEVENT
DTSTART;TZID=Europe/London:20250307T193000
DTEND;TZID=Europe/London:20250307T220000
DTSTAMP:20260425T120145
CREATED:20240530T145241Z
LAST-MODIFIED:20240822T140146Z
UID:10001227-1741375800-1741384800@www.davenhamplayers.co.uk
SUMMARY:The Importance of Being Earnest by Oscar Wilde
DESCRIPTION:The Importance of Being Earnest – “A trivial play for serious people” is a satirical comedy by Oscar Wilde set in 1895. \nFriends Jack and Algernon weave a tangled web as they endeavour to court Lady Bracknell’s daughter Gwendolyn and Jack’s ward Cecily with a view to marriage. But… \n…they are hampered by the fact that the two young ladies are determined to find a suitor with the name Ernest. \nOur production will be enhanced Edwardian settings and period costumes. \n\n\n\nThe Importance of Being Earnest is directed by Sheila Hetherington and runs from\nTuesday 4th March 2024 to Saturday 8th March 2025\nDoors and Bar Open 7:00pm. Show at 7:30pm\nTickets @ £12 available from our TicketSource shop at\nhttps://www.ticketsource.co.uk/davenhamplayers\n\n\n\n\n\n\n\n\n\n  \n 
URL:https://www.davenhamplayers.co.uk/event-and-production/the-importance-of-being-earnest-by-oscar-wilde/2025-03-07/
LOCATION:Davenham Theatre\, 59 Church Street\, Northwich\, CW9 8NF\, United Kingdom
CATEGORIES:Drama
GEO:53.2367913;-2.5072065
X-APPLE-STRUCTURED-LOCATION;VALUE=URI;X-ADDRESS=Davenham Theatre 59 Church Street Northwich CW9 8NF United Kingdom;X-APPLE-RADIUS=500;X-TITLE=59 Church Street:geo:-2.5072065,53.2367913
END:VEVENT
BEGIN:VEVENT
DTSTART;TZID=Europe/London:20250308T193000
DTEND;TZID=Europe/London:20250308T220000
DTSTAMP:20260425T120145
CREATED:20240530T145241Z
LAST-MODIFIED:20240822T140146Z
UID:10001228-1741462200-1741471200@www.davenhamplayers.co.uk
SUMMARY:The Importance of Being Earnest by Oscar Wilde
DESCRIPTION:The Importance of Being Earnest – “A trivial play for serious people” is a satirical comedy by Oscar Wilde set in 1895. \nFriends Jack and Algernon weave a tangled web as they endeavour to court Lady Bracknell’s daughter Gwendolyn and Jack’s ward Cecily with a view to marriage. But… \n…they are hampered by the fact that the two young ladies are determined to find a suitor with the name Ernest. \nOur production will be enhanced Edwardian settings and period costumes. \n\n\n\nThe Importance of Being Earnest is directed by Sheila Hetherington and runs from\nTuesday 4th March 2024 to Saturday 8th March 2025\nDoors and Bar Open 7:00pm. Show at 7:30pm\nTickets @ £12 available from our TicketSource shop at\nhttps://www.ticketsource.co.uk/davenhamplayers\n\n\n\n\n\n\n\n\n\n  \n 
URL:https://www.davenhamplayers.co.uk/event-and-production/the-importance-of-being-earnest-by-oscar-wilde/2025-03-08/
LOCATION:Davenham Theatre\, 59 Church Street\, Northwich\, CW9 8NF\, United Kingdom
CATEGORIES:Drama
GEO:53.2367913;-2.5072065
X-APPLE-STRUCTURED-LOCATION;VALUE=URI;X-ADDRESS=Davenham Theatre 59 Church Street Northwich CW9 8NF United Kingdom;X-APPLE-RADIUS=500;X-TITLE=59 Church Street:geo:-2.5072065,53.2367913
END:VEVENT
END:VCALENDAR