BEGIN:VCALENDAR
VERSION:2.0
PRODID:-//The Davenham Players - ECPv6.15.20//NONSGML v1.0//EN
CALSCALE:GREGORIAN
METHOD:PUBLISH
X-WR-CALNAME:The Davenham Players
X-ORIGINAL-URL:https://www.davenhamplayers.co.uk
X-WR-CALDESC:Events for The Davenham Players
REFRESH-INTERVAL;VALUE=DURATION:PT1H
X-Robots-Tag:noindex
X-PUBLISHED-TTL:PT1H
BEGIN:VTIMEZONE
TZID:Europe/London
BEGIN:DAYLIGHT
TZOFFSETFROM:+0000
TZOFFSETTO:+0100
TZNAME:BST
DTSTART:20250330T010000
END:DAYLIGHT
BEGIN:STANDARD
TZOFFSETFROM:+0100
TZOFFSETTO:+0000
TZNAME:GMT
DTSTART:20251026T010000
END:STANDARD
BEGIN:DAYLIGHT
TZOFFSETFROM:+0000
TZOFFSETTO:+0100
TZNAME:BST
DTSTART:20260329T010000
END:DAYLIGHT
BEGIN:STANDARD
TZOFFSETFROM:+0100
TZOFFSETTO:+0000
TZNAME:GMT
DTSTART:20261025T010000
END:STANDARD
BEGIN:DAYLIGHT
TZOFFSETFROM:+0000
TZOFFSETTO:+0100
TZNAME:BST
DTSTART:20270328T010000
END:DAYLIGHT
BEGIN:STANDARD
TZOFFSETFROM:+0100
TZOFFSETTO:+0000
TZNAME:GMT
DTSTART:20271031T010000
END:STANDARD
END:VTIMEZONE
BEGIN:VEVENT
DTSTART;TZID=Europe/London:20260303T073000
DTEND;TZID=Europe/London:20260303T220000
DTSTAMP:20260424T184004
CREATED:20260228T233309Z
LAST-MODIFIED:20260228T233315Z
UID:10002524-1772523000-1772575200@www.davenhamplayers.co.uk
SUMMARY:Girl on the Train Directed by Berni Bebbington
DESCRIPTION:If you fancy a gripping night out\, come along for the thriller The Girl on the Train directed by our CTG nominated Berni Bebbington. \nThis intriguing drama promises to be a tense evening as struggling alcoholic Rachel Watson endeavours to make sense of an unravelling mystery disappearance. \nThis brilliant stage adaptation of the book by Paula Hawkins will not disappoint. Buckle up! \nFor full details of show dates and booking\, see the Davenham Players Ticket Shop \n\nDoors Open at 7:00PM\nStarts at 7:30PM
URL:https://www.davenhamplayers.co.uk/event-and-production/girl-on-the-train-directed-by-berni-bebbington-3/
LOCATION:Davenham Theatre\, 59 Church Street\, Northwich\, CW9 8NF\, United Kingdom
CATEGORIES:Drama,Featured
GEO:53.2367913;-2.5072065
X-APPLE-STRUCTURED-LOCATION;VALUE=URI;X-ADDRESS=Davenham Theatre 59 Church Street Northwich CW9 8NF United Kingdom;X-APPLE-RADIUS=500;X-TITLE=59 Church Street:geo:-2.5072065,53.2367913
END:VEVENT
BEGIN:VEVENT
DTSTART;TZID=Europe/London:20260304T073000
DTEND;TZID=Europe/London:20260304T220000
DTSTAMP:20260424T184004
CREATED:20260129T155552Z
LAST-MODIFIED:20260228T233245Z
UID:10002525-1772609400-1772661600@www.davenhamplayers.co.uk
SUMMARY:Girl on the Train Directed by Berni Bebbington
DESCRIPTION:If you fancy a gripping night out\, come along for the thriller The Girl on the Train directed by our CTG nominated Berni Bebbington. \nThis intriguing drama promises to be a tense evening as struggling alcoholic Rachel Watson endeavours to make sense of an unravelling mystery disappearance. \nThis brilliant stage adaptation of the book by Paula Hawkins will not disappoint. Buckle up! \nFor full details of show dates and booking\, see the Davenham Players Ticket Shop \n\nDoors Open at 7:00PM\nStarts at 7:30PM
URL:https://www.davenhamplayers.co.uk/event-and-production/girl-on-the-train-directed-by-berni-bebbington/2026-03-04/
LOCATION:Davenham Theatre\, 59 Church Street\, Northwich\, CW9 8NF\, United Kingdom
CATEGORIES:Drama
GEO:53.2367913;-2.5072065
X-APPLE-STRUCTURED-LOCATION;VALUE=URI;X-ADDRESS=Davenham Theatre 59 Church Street Northwich CW9 8NF United Kingdom;X-APPLE-RADIUS=500;X-TITLE=59 Church Street:geo:-2.5072065,53.2367913
END:VEVENT
BEGIN:VEVENT
DTSTART;TZID=Europe/London:20260305T073000
DTEND;TZID=Europe/London:20260305T220000
DTSTAMP:20260424T184004
CREATED:20260129T155552Z
LAST-MODIFIED:20260228T233245Z
UID:10002526-1772695800-1772748000@www.davenhamplayers.co.uk
SUMMARY:Girl on the Train Directed by Berni Bebbington
DESCRIPTION:If you fancy a gripping night out\, come along for the thriller The Girl on the Train directed by our CTG nominated Berni Bebbington. \nThis intriguing drama promises to be a tense evening as struggling alcoholic Rachel Watson endeavours to make sense of an unravelling mystery disappearance. \nThis brilliant stage adaptation of the book by Paula Hawkins will not disappoint. Buckle up! \nFor full details of show dates and booking\, see the Davenham Players Ticket Shop \n\nDoors Open at 7:00PM\nStarts at 7:30PM
URL:https://www.davenhamplayers.co.uk/event-and-production/girl-on-the-train-directed-by-berni-bebbington/2026-03-05/
LOCATION:Davenham Theatre\, 59 Church Street\, Northwich\, CW9 8NF\, United Kingdom
CATEGORIES:Drama
GEO:53.2367913;-2.5072065
X-APPLE-STRUCTURED-LOCATION;VALUE=URI;X-ADDRESS=Davenham Theatre 59 Church Street Northwich CW9 8NF United Kingdom;X-APPLE-RADIUS=500;X-TITLE=59 Church Street:geo:-2.5072065,53.2367913
END:VEVENT
BEGIN:VEVENT
DTSTART;TZID=Europe/London:20260306T073000
DTEND;TZID=Europe/London:20260306T220000
DTSTAMP:20260424T184004
CREATED:20260129T155552Z
LAST-MODIFIED:20260228T233245Z
UID:10002527-1772782200-1772834400@www.davenhamplayers.co.uk
SUMMARY:Girl on the Train Directed by Berni Bebbington
DESCRIPTION:If you fancy a gripping night out\, come along for the thriller The Girl on the Train directed by our CTG nominated Berni Bebbington. \nThis intriguing drama promises to be a tense evening as struggling alcoholic Rachel Watson endeavours to make sense of an unravelling mystery disappearance. \nThis brilliant stage adaptation of the book by Paula Hawkins will not disappoint. Buckle up! \nFor full details of show dates and booking\, see the Davenham Players Ticket Shop \n\nDoors Open at 7:00PM\nStarts at 7:30PM
URL:https://www.davenhamplayers.co.uk/event-and-production/girl-on-the-train-directed-by-berni-bebbington/2026-03-06/
LOCATION:Davenham Theatre\, 59 Church Street\, Northwich\, CW9 8NF\, United Kingdom
CATEGORIES:Drama
GEO:53.2367913;-2.5072065
X-APPLE-STRUCTURED-LOCATION;VALUE=URI;X-ADDRESS=Davenham Theatre 59 Church Street Northwich CW9 8NF United Kingdom;X-APPLE-RADIUS=500;X-TITLE=59 Church Street:geo:-2.5072065,53.2367913
END:VEVENT
BEGIN:VEVENT
DTSTART;TZID=Europe/London:20260307T073000
DTEND;TZID=Europe/London:20260307T220000
DTSTAMP:20260424T184004
CREATED:20260129T155552Z
LAST-MODIFIED:20260228T233245Z
UID:10002528-1772868600-1772920800@www.davenhamplayers.co.uk
SUMMARY:Girl on the Train Directed by Berni Bebbington
DESCRIPTION:If you fancy a gripping night out\, come along for the thriller The Girl on the Train directed by our CTG nominated Berni Bebbington. \nThis intriguing drama promises to be a tense evening as struggling alcoholic Rachel Watson endeavours to make sense of an unravelling mystery disappearance. \nThis brilliant stage adaptation of the book by Paula Hawkins will not disappoint. Buckle up! \nFor full details of show dates and booking\, see the Davenham Players Ticket Shop \n\nDoors Open at 7:00PM\nStarts at 7:30PM
URL:https://www.davenhamplayers.co.uk/event-and-production/girl-on-the-train-directed-by-berni-bebbington/2026-03-07/
LOCATION:Davenham Theatre\, 59 Church Street\, Northwich\, CW9 8NF\, United Kingdom
CATEGORIES:Drama
GEO:53.2367913;-2.5072065
X-APPLE-STRUCTURED-LOCATION;VALUE=URI;X-ADDRESS=Davenham Theatre 59 Church Street Northwich CW9 8NF United Kingdom;X-APPLE-RADIUS=500;X-TITLE=59 Church Street:geo:-2.5072065,53.2367913
END:VEVENT
END:VCALENDAR