BEGIN:VCALENDAR
VERSION:2.0
PRODID:-//The Davenham Players - ECPv6.15.20//NONSGML v1.0//EN
CALSCALE:GREGORIAN
METHOD:PUBLISH
X-ORIGINAL-URL:https://www.davenhamplayers.co.uk
X-WR-CALDESC:Events for The Davenham Players
REFRESH-INTERVAL;VALUE=DURATION:PT1H
X-Robots-Tag:noindex
X-PUBLISHED-TTL:PT1H
BEGIN:VTIMEZONE
TZID:Europe/London
BEGIN:DAYLIGHT
TZOFFSETFROM:+0000
TZOFFSETTO:+0100
TZNAME:BST
DTSTART:20250330T010000
END:DAYLIGHT
BEGIN:STANDARD
TZOFFSETFROM:+0100
TZOFFSETTO:+0000
TZNAME:GMT
DTSTART:20251026T010000
END:STANDARD
BEGIN:DAYLIGHT
TZOFFSETFROM:+0000
TZOFFSETTO:+0100
TZNAME:BST
DTSTART:20260329T010000
END:DAYLIGHT
BEGIN:STANDARD
TZOFFSETFROM:+0100
TZOFFSETTO:+0000
TZNAME:GMT
DTSTART:20261025T010000
END:STANDARD
BEGIN:DAYLIGHT
TZOFFSETFROM:+0000
TZOFFSETTO:+0100
TZNAME:BST
DTSTART:20270328T010000
END:DAYLIGHT
BEGIN:STANDARD
TZOFFSETFROM:+0100
TZOFFSETTO:+0000
TZNAME:GMT
DTSTART:20271031T010000
END:STANDARD
END:VTIMEZONE
BEGIN:VEVENT
DTSTART;TZID=Europe/London:20260911T193000
DTEND;TZID=Europe/London:20260911T220000
DTSTAMP:20260424T212843
CREATED:20260129T180207Z
LAST-MODIFIED:20260129T182021Z
UID:10002536-1789155000-1789164000@www.davenhamplayers.co.uk
SUMMARY:Things I Know To Be True by Andrew Bovell
DESCRIPTION:Opening our 2026/27 season is the award winning play Things I Know To Be True by Andrew Bovell. This intense family drama pushes the boundaries of playmaking and has been performed all over the world.\n\nDirected by Linda Sunners with a cast who will not disappoint\, come along and immerse yourselves in this extraordinary work.\n\n\n\n\n\n\n\n\n\n\n\nFor full details of show dates and booking\, see the Davenham Players Ticket Shop \n\nDoors Open at 7:00PM\nStarts at 7:30PM
URL:https://www.davenhamplayers.co.uk/event-and-production/things-i-know-to-be-true-by-andrew-bovell/2026-09-11/
LOCATION:Davenham Theatre\, 59 Church Street\, Northwich\, CW9 8NF\, United Kingdom
CATEGORIES:Drama
GEO:53.2367913;-2.5072065
X-APPLE-STRUCTURED-LOCATION;VALUE=URI;X-ADDRESS=Davenham Theatre 59 Church Street Northwich CW9 8NF United Kingdom;X-APPLE-RADIUS=500;X-TITLE=59 Church Street:geo:-2.5072065,53.2367913
END:VEVENT
BEGIN:VEVENT
DTSTART;TZID=Europe/London:20260912T193000
DTEND;TZID=Europe/London:20260912T220000
DTSTAMP:20260424T212843
CREATED:20260129T180207Z
LAST-MODIFIED:20260129T182021Z
UID:10002537-1789241400-1789250400@www.davenhamplayers.co.uk
SUMMARY:Things I Know To Be True by Andrew Bovell
DESCRIPTION:Opening our 2026/27 season is the award winning play Things I Know To Be True by Andrew Bovell. This intense family drama pushes the boundaries of playmaking and has been performed all over the world.\n\nDirected by Linda Sunners with a cast who will not disappoint\, come along and immerse yourselves in this extraordinary work.\n\n\n\n\n\n\n\n\n\n\n\nFor full details of show dates and booking\, see the Davenham Players Ticket Shop \n\nDoors Open at 7:00PM\nStarts at 7:30PM
URL:https://www.davenhamplayers.co.uk/event-and-production/things-i-know-to-be-true-by-andrew-bovell/2026-09-12/
LOCATION:Davenham Theatre\, 59 Church Street\, Northwich\, CW9 8NF\, United Kingdom
CATEGORIES:Drama
GEO:53.2367913;-2.5072065
X-APPLE-STRUCTURED-LOCATION;VALUE=URI;X-ADDRESS=Davenham Theatre 59 Church Street Northwich CW9 8NF United Kingdom;X-APPLE-RADIUS=500;X-TITLE=59 Church Street:geo:-2.5072065,53.2367913
END:VEVENT
BEGIN:VEVENT
DTSTART;TZID=Europe/London:20260915T193000
DTEND;TZID=Europe/London:20260915T220000
DTSTAMP:20260424T212843
CREATED:20260129T180207Z
LAST-MODIFIED:20260129T182021Z
UID:10002538-1789500600-1789509600@www.davenhamplayers.co.uk
SUMMARY:Things I Know To Be True by Andrew Bovell
DESCRIPTION:Opening our 2026/27 season is the award winning play Things I Know To Be True by Andrew Bovell. This intense family drama pushes the boundaries of playmaking and has been performed all over the world.\n\nDirected by Linda Sunners with a cast who will not disappoint\, come along and immerse yourselves in this extraordinary work.\n\n\n\n\n\n\n\n\n\n\n\nFor full details of show dates and booking\, see the Davenham Players Ticket Shop \n\nDoors Open at 7:00PM\nStarts at 7:30PM
URL:https://www.davenhamplayers.co.uk/event-and-production/things-i-know-to-be-true-by-andrew-bovell/2026-09-15/
LOCATION:Davenham Theatre\, 59 Church Street\, Northwich\, CW9 8NF\, United Kingdom
CATEGORIES:Drama
GEO:53.2367913;-2.5072065
X-APPLE-STRUCTURED-LOCATION;VALUE=URI;X-ADDRESS=Davenham Theatre 59 Church Street Northwich CW9 8NF United Kingdom;X-APPLE-RADIUS=500;X-TITLE=59 Church Street:geo:-2.5072065,53.2367913
END:VEVENT
BEGIN:VEVENT
DTSTART;TZID=Europe/London:20260916T193000
DTEND;TZID=Europe/London:20260916T220000
DTSTAMP:20260424T212843
CREATED:20260129T180207Z
LAST-MODIFIED:20260129T182021Z
UID:10002539-1789587000-1789596000@www.davenhamplayers.co.uk
SUMMARY:Things I Know To Be True by Andrew Bovell
DESCRIPTION:Opening our 2026/27 season is the award winning play Things I Know To Be True by Andrew Bovell. This intense family drama pushes the boundaries of playmaking and has been performed all over the world.\n\nDirected by Linda Sunners with a cast who will not disappoint\, come along and immerse yourselves in this extraordinary work.\n\n\n\n\n\n\n\n\n\n\n\nFor full details of show dates and booking\, see the Davenham Players Ticket Shop \n\nDoors Open at 7:00PM\nStarts at 7:30PM
URL:https://www.davenhamplayers.co.uk/event-and-production/things-i-know-to-be-true-by-andrew-bovell/2026-09-16/
LOCATION:Davenham Theatre\, 59 Church Street\, Northwich\, CW9 8NF\, United Kingdom
CATEGORIES:Drama
GEO:53.2367913;-2.5072065
X-APPLE-STRUCTURED-LOCATION;VALUE=URI;X-ADDRESS=Davenham Theatre 59 Church Street Northwich CW9 8NF United Kingdom;X-APPLE-RADIUS=500;X-TITLE=59 Church Street:geo:-2.5072065,53.2367913
END:VEVENT
BEGIN:VEVENT
DTSTART;TZID=Europe/London:20260917T193000
DTEND;TZID=Europe/London:20260917T220000
DTSTAMP:20260424T212843
CREATED:20260129T180207Z
LAST-MODIFIED:20260129T182021Z
UID:10002540-1789673400-1789682400@www.davenhamplayers.co.uk
SUMMARY:Things I Know To Be True by Andrew Bovell
DESCRIPTION:Opening our 2026/27 season is the award winning play Things I Know To Be True by Andrew Bovell. This intense family drama pushes the boundaries of playmaking and has been performed all over the world.\n\nDirected by Linda Sunners with a cast who will not disappoint\, come along and immerse yourselves in this extraordinary work.\n\n\n\n\n\n\n\n\n\n\n\nFor full details of show dates and booking\, see the Davenham Players Ticket Shop \n\nDoors Open at 7:00PM\nStarts at 7:30PM
URL:https://www.davenhamplayers.co.uk/event-and-production/things-i-know-to-be-true-by-andrew-bovell/2026-09-17/
LOCATION:Davenham Theatre\, 59 Church Street\, Northwich\, CW9 8NF\, United Kingdom
CATEGORIES:Drama
GEO:53.2367913;-2.5072065
X-APPLE-STRUCTURED-LOCATION;VALUE=URI;X-ADDRESS=Davenham Theatre 59 Church Street Northwich CW9 8NF United Kingdom;X-APPLE-RADIUS=500;X-TITLE=59 Church Street:geo:-2.5072065,53.2367913
END:VEVENT
BEGIN:VEVENT
DTSTART;TZID=Europe/London:20260918T193000
DTEND;TZID=Europe/London:20260918T220000
DTSTAMP:20260424T212843
CREATED:20260129T180207Z
LAST-MODIFIED:20260129T182021Z
UID:10002541-1789759800-1789768800@www.davenhamplayers.co.uk
SUMMARY:Things I Know To Be True by Andrew Bovell
DESCRIPTION:Opening our 2026/27 season is the award winning play Things I Know To Be True by Andrew Bovell. This intense family drama pushes the boundaries of playmaking and has been performed all over the world.\n\nDirected by Linda Sunners with a cast who will not disappoint\, come along and immerse yourselves in this extraordinary work.\n\n\n\n\n\n\n\n\n\n\n\nFor full details of show dates and booking\, see the Davenham Players Ticket Shop \n\nDoors Open at 7:00PM\nStarts at 7:30PM
URL:https://www.davenhamplayers.co.uk/event-and-production/things-i-know-to-be-true-by-andrew-bovell/2026-09-18/
LOCATION:Davenham Theatre\, 59 Church Street\, Northwich\, CW9 8NF\, United Kingdom
CATEGORIES:Drama
GEO:53.2367913;-2.5072065
X-APPLE-STRUCTURED-LOCATION;VALUE=URI;X-ADDRESS=Davenham Theatre 59 Church Street Northwich CW9 8NF United Kingdom;X-APPLE-RADIUS=500;X-TITLE=59 Church Street:geo:-2.5072065,53.2367913
END:VEVENT
BEGIN:VEVENT
DTSTART;TZID=Europe/London:20260919T193000
DTEND;TZID=Europe/London:20260919T220000
DTSTAMP:20260424T212843
CREATED:20260129T180207Z
LAST-MODIFIED:20260129T182021Z
UID:10002542-1789846200-1789855200@www.davenhamplayers.co.uk
SUMMARY:Things I Know To Be True by Andrew Bovell
DESCRIPTION:Opening our 2026/27 season is the award winning play Things I Know To Be True by Andrew Bovell. This intense family drama pushes the boundaries of playmaking and has been performed all over the world.\n\nDirected by Linda Sunners with a cast who will not disappoint\, come along and immerse yourselves in this extraordinary work.\n\n\n\n\n\n\n\n\n\n\n\nFor full details of show dates and booking\, see the Davenham Players Ticket Shop \n\nDoors Open at 7:00PM\nStarts at 7:30PM
URL:https://www.davenhamplayers.co.uk/event-and-production/things-i-know-to-be-true-by-andrew-bovell/2026-09-19/
LOCATION:Davenham Theatre\, 59 Church Street\, Northwich\, CW9 8NF\, United Kingdom
CATEGORIES:Drama
GEO:53.2367913;-2.5072065
X-APPLE-STRUCTURED-LOCATION;VALUE=URI;X-ADDRESS=Davenham Theatre 59 Church Street Northwich CW9 8NF United Kingdom;X-APPLE-RADIUS=500;X-TITLE=59 Church Street:geo:-2.5072065,53.2367913
END:VEVENT
END:VCALENDAR