BEGIN:VCALENDAR
VERSION:2.0
PRODID:-//The Davenham Players - ECPv6.15.20//NONSGML v1.0//EN
CALSCALE:GREGORIAN
METHOD:PUBLISH
X-WR-CALNAME:The Davenham Players
X-ORIGINAL-URL:https://www.davenhamplayers.co.uk
X-WR-CALDESC:Events for The Davenham Players
REFRESH-INTERVAL;VALUE=DURATION:PT1H
X-Robots-Tag:noindex
X-PUBLISHED-TTL:PT1H
BEGIN:VTIMEZONE
TZID:Europe/London
BEGIN:DAYLIGHT
TZOFFSETFROM:+0000
TZOFFSETTO:+0100
TZNAME:BST
DTSTART:20250330T010000
END:DAYLIGHT
BEGIN:STANDARD
TZOFFSETFROM:+0100
TZOFFSETTO:+0000
TZNAME:GMT
DTSTART:20251026T010000
END:STANDARD
BEGIN:DAYLIGHT
TZOFFSETFROM:+0000
TZOFFSETTO:+0100
TZNAME:BST
DTSTART:20260329T010000
END:DAYLIGHT
BEGIN:STANDARD
TZOFFSETFROM:+0100
TZOFFSETTO:+0000
TZNAME:GMT
DTSTART:20261025T010000
END:STANDARD
BEGIN:DAYLIGHT
TZOFFSETFROM:+0000
TZOFFSETTO:+0100
TZNAME:BST
DTSTART:20270328T010000
END:DAYLIGHT
BEGIN:STANDARD
TZOFFSETFROM:+0100
TZOFFSETTO:+0000
TZNAME:GMT
DTSTART:20271031T010000
END:STANDARD
END:VTIMEZONE
BEGIN:VEVENT
DTSTART;TZID=Europe/London:20261113T193000
DTEND;TZID=Europe/London:20261113T220000
DTSTAMP:20260425T150849
CREATED:20260129T181830Z
LAST-MODIFIED:20260129T181830Z
UID:10002543-1794598200-1794607200@www.davenhamplayers.co.uk
SUMMARY:God of Carnage by Yasmina Reza
DESCRIPTION:Our November play is God of Carnage directed by Heather Milam who brought us the hugely successful All My Sons. This sharp\, witty and often hilarious play is a battle of wills between four ‘civilised’ adults.\n\nGod of Carnage is a Tony-award winning play by Yasmina Reza about two sets of parents who meet to discuss a playground fight between their sons. What starts as a civilised evening descends into a chaotic and increasingly vicious argument between the adults.\n\nJoin us for a dynamic and fast-paced evening exploring human nature and the thin veneer of civility which masks our primal instincts!\n\n\n\n\n\n\n\n\n\n\n\nFor full details of show dates and booking\, see the Davenham Players Ticket Shop \n\nDoors Open at 7:00PM\nStarts at 7:30PM
URL:https://www.davenhamplayers.co.uk/event-and-production/god-of-carnage-by-yasmina-reza/2026-11-13/
LOCATION:Davenham Theatre\, 59 Church Street\, Northwich\, CW9 8NF\, United Kingdom
CATEGORIES:Drama
GEO:53.2367913;-2.5072065
X-APPLE-STRUCTURED-LOCATION;VALUE=URI;X-ADDRESS=Davenham Theatre 59 Church Street Northwich CW9 8NF United Kingdom;X-APPLE-RADIUS=500;X-TITLE=59 Church Street:geo:-2.5072065,53.2367913
END:VEVENT
BEGIN:VEVENT
DTSTART;TZID=Europe/London:20261114T193000
DTEND;TZID=Europe/London:20261114T220000
DTSTAMP:20260425T150849
CREATED:20260129T181830Z
LAST-MODIFIED:20260129T181830Z
UID:10002544-1794684600-1794693600@www.davenhamplayers.co.uk
SUMMARY:God of Carnage by Yasmina Reza
DESCRIPTION:Our November play is God of Carnage directed by Heather Milam who brought us the hugely successful All My Sons. This sharp\, witty and often hilarious play is a battle of wills between four ‘civilised’ adults.\n\nGod of Carnage is a Tony-award winning play by Yasmina Reza about two sets of parents who meet to discuss a playground fight between their sons. What starts as a civilised evening descends into a chaotic and increasingly vicious argument between the adults.\n\nJoin us for a dynamic and fast-paced evening exploring human nature and the thin veneer of civility which masks our primal instincts!\n\n\n\n\n\n\n\n\n\n\n\nFor full details of show dates and booking\, see the Davenham Players Ticket Shop \n\nDoors Open at 7:00PM\nStarts at 7:30PM
URL:https://www.davenhamplayers.co.uk/event-and-production/god-of-carnage-by-yasmina-reza/2026-11-14/
LOCATION:Davenham Theatre\, 59 Church Street\, Northwich\, CW9 8NF\, United Kingdom
CATEGORIES:Drama
GEO:53.2367913;-2.5072065
X-APPLE-STRUCTURED-LOCATION;VALUE=URI;X-ADDRESS=Davenham Theatre 59 Church Street Northwich CW9 8NF United Kingdom;X-APPLE-RADIUS=500;X-TITLE=59 Church Street:geo:-2.5072065,53.2367913
END:VEVENT
BEGIN:VEVENT
DTSTART;TZID=Europe/London:20261115T193000
DTEND;TZID=Europe/London:20261115T220000
DTSTAMP:20260425T150849
CREATED:20260129T181830Z
LAST-MODIFIED:20260129T181830Z
UID:10002545-1794771000-1794780000@www.davenhamplayers.co.uk
SUMMARY:God of Carnage by Yasmina Reza
DESCRIPTION:Our November play is God of Carnage directed by Heather Milam who brought us the hugely successful All My Sons. This sharp\, witty and often hilarious play is a battle of wills between four ‘civilised’ adults.\n\nGod of Carnage is a Tony-award winning play by Yasmina Reza about two sets of parents who meet to discuss a playground fight between their sons. What starts as a civilised evening descends into a chaotic and increasingly vicious argument between the adults.\n\nJoin us for a dynamic and fast-paced evening exploring human nature and the thin veneer of civility which masks our primal instincts!\n\n\n\n\n\n\n\n\n\n\n\nFor full details of show dates and booking\, see the Davenham Players Ticket Shop \n\nDoors Open at 7:00PM\nStarts at 7:30PM
URL:https://www.davenhamplayers.co.uk/event-and-production/god-of-carnage-by-yasmina-reza/2026-11-15/
LOCATION:Davenham Theatre\, 59 Church Street\, Northwich\, CW9 8NF\, United Kingdom
CATEGORIES:Drama
GEO:53.2367913;-2.5072065
X-APPLE-STRUCTURED-LOCATION;VALUE=URI;X-ADDRESS=Davenham Theatre 59 Church Street Northwich CW9 8NF United Kingdom;X-APPLE-RADIUS=500;X-TITLE=59 Church Street:geo:-2.5072065,53.2367913
END:VEVENT
BEGIN:VEVENT
DTSTART;TZID=Europe/London:20261117T193000
DTEND;TZID=Europe/London:20261117T220000
DTSTAMP:20260425T150849
CREATED:20260129T181830Z
LAST-MODIFIED:20260129T181830Z
UID:10002546-1794943800-1794952800@www.davenhamplayers.co.uk
SUMMARY:God of Carnage by Yasmina Reza
DESCRIPTION:Our November play is God of Carnage directed by Heather Milam who brought us the hugely successful All My Sons. This sharp\, witty and often hilarious play is a battle of wills between four ‘civilised’ adults.\n\nGod of Carnage is a Tony-award winning play by Yasmina Reza about two sets of parents who meet to discuss a playground fight between their sons. What starts as a civilised evening descends into a chaotic and increasingly vicious argument between the adults.\n\nJoin us for a dynamic and fast-paced evening exploring human nature and the thin veneer of civility which masks our primal instincts!\n\n\n\n\n\n\n\n\n\n\n\nFor full details of show dates and booking\, see the Davenham Players Ticket Shop \n\nDoors Open at 7:00PM\nStarts at 7:30PM
URL:https://www.davenhamplayers.co.uk/event-and-production/god-of-carnage-by-yasmina-reza/2026-11-17/
LOCATION:Davenham Theatre\, 59 Church Street\, Northwich\, CW9 8NF\, United Kingdom
CATEGORIES:Drama
GEO:53.2367913;-2.5072065
X-APPLE-STRUCTURED-LOCATION;VALUE=URI;X-ADDRESS=Davenham Theatre 59 Church Street Northwich CW9 8NF United Kingdom;X-APPLE-RADIUS=500;X-TITLE=59 Church Street:geo:-2.5072065,53.2367913
END:VEVENT
BEGIN:VEVENT
DTSTART;TZID=Europe/London:20261118T193000
DTEND;TZID=Europe/London:20261118T220000
DTSTAMP:20260425T150849
CREATED:20260129T181830Z
LAST-MODIFIED:20260129T181830Z
UID:10002547-1795030200-1795039200@www.davenhamplayers.co.uk
SUMMARY:God of Carnage by Yasmina Reza
DESCRIPTION:Our November play is God of Carnage directed by Heather Milam who brought us the hugely successful All My Sons. This sharp\, witty and often hilarious play is a battle of wills between four ‘civilised’ adults.\n\nGod of Carnage is a Tony-award winning play by Yasmina Reza about two sets of parents who meet to discuss a playground fight between their sons. What starts as a civilised evening descends into a chaotic and increasingly vicious argument between the adults.\n\nJoin us for a dynamic and fast-paced evening exploring human nature and the thin veneer of civility which masks our primal instincts!\n\n\n\n\n\n\n\n\n\n\n\nFor full details of show dates and booking\, see the Davenham Players Ticket Shop \n\nDoors Open at 7:00PM\nStarts at 7:30PM
URL:https://www.davenhamplayers.co.uk/event-and-production/god-of-carnage-by-yasmina-reza/2026-11-18/
LOCATION:Davenham Theatre\, 59 Church Street\, Northwich\, CW9 8NF\, United Kingdom
CATEGORIES:Drama
GEO:53.2367913;-2.5072065
X-APPLE-STRUCTURED-LOCATION;VALUE=URI;X-ADDRESS=Davenham Theatre 59 Church Street Northwich CW9 8NF United Kingdom;X-APPLE-RADIUS=500;X-TITLE=59 Church Street:geo:-2.5072065,53.2367913
END:VEVENT
BEGIN:VEVENT
DTSTART;TZID=Europe/London:20261119T193000
DTEND;TZID=Europe/London:20261119T220000
DTSTAMP:20260425T150849
CREATED:20260129T181830Z
LAST-MODIFIED:20260129T181830Z
UID:10002548-1795116600-1795125600@www.davenhamplayers.co.uk
SUMMARY:God of Carnage by Yasmina Reza
DESCRIPTION:Our November play is God of Carnage directed by Heather Milam who brought us the hugely successful All My Sons. This sharp\, witty and often hilarious play is a battle of wills between four ‘civilised’ adults.\n\nGod of Carnage is a Tony-award winning play by Yasmina Reza about two sets of parents who meet to discuss a playground fight between their sons. What starts as a civilised evening descends into a chaotic and increasingly vicious argument between the adults.\n\nJoin us for a dynamic and fast-paced evening exploring human nature and the thin veneer of civility which masks our primal instincts!\n\n\n\n\n\n\n\n\n\n\n\nFor full details of show dates and booking\, see the Davenham Players Ticket Shop \n\nDoors Open at 7:00PM\nStarts at 7:30PM
URL:https://www.davenhamplayers.co.uk/event-and-production/god-of-carnage-by-yasmina-reza/2026-11-19/
LOCATION:Davenham Theatre\, 59 Church Street\, Northwich\, CW9 8NF\, United Kingdom
CATEGORIES:Drama
GEO:53.2367913;-2.5072065
X-APPLE-STRUCTURED-LOCATION;VALUE=URI;X-ADDRESS=Davenham Theatre 59 Church Street Northwich CW9 8NF United Kingdom;X-APPLE-RADIUS=500;X-TITLE=59 Church Street:geo:-2.5072065,53.2367913
END:VEVENT
BEGIN:VEVENT
DTSTART;TZID=Europe/London:20261120T193000
DTEND;TZID=Europe/London:20261120T220000
DTSTAMP:20260425T150849
CREATED:20260129T181830Z
LAST-MODIFIED:20260129T181830Z
UID:10002549-1795203000-1795212000@www.davenhamplayers.co.uk
SUMMARY:God of Carnage by Yasmina Reza
DESCRIPTION:Our November play is God of Carnage directed by Heather Milam who brought us the hugely successful All My Sons. This sharp\, witty and often hilarious play is a battle of wills between four ‘civilised’ adults.\n\nGod of Carnage is a Tony-award winning play by Yasmina Reza about two sets of parents who meet to discuss a playground fight between their sons. What starts as a civilised evening descends into a chaotic and increasingly vicious argument between the adults.\n\nJoin us for a dynamic and fast-paced evening exploring human nature and the thin veneer of civility which masks our primal instincts!\n\n\n\n\n\n\n\n\n\n\n\nFor full details of show dates and booking\, see the Davenham Players Ticket Shop \n\nDoors Open at 7:00PM\nStarts at 7:30PM
URL:https://www.davenhamplayers.co.uk/event-and-production/god-of-carnage-by-yasmina-reza/2026-11-20/
LOCATION:Davenham Theatre\, 59 Church Street\, Northwich\, CW9 8NF\, United Kingdom
CATEGORIES:Drama
GEO:53.2367913;-2.5072065
X-APPLE-STRUCTURED-LOCATION;VALUE=URI;X-ADDRESS=Davenham Theatre 59 Church Street Northwich CW9 8NF United Kingdom;X-APPLE-RADIUS=500;X-TITLE=59 Church Street:geo:-2.5072065,53.2367913
END:VEVENT
BEGIN:VEVENT
DTSTART;TZID=Europe/London:20261121T193000
DTEND;TZID=Europe/London:20261121T220000
DTSTAMP:20260425T150849
CREATED:20260129T181830Z
LAST-MODIFIED:20260129T181830Z
UID:10002550-1795289400-1795298400@www.davenhamplayers.co.uk
SUMMARY:God of Carnage by Yasmina Reza
DESCRIPTION:Our November play is God of Carnage directed by Heather Milam who brought us the hugely successful All My Sons. This sharp\, witty and often hilarious play is a battle of wills between four ‘civilised’ adults.\n\nGod of Carnage is a Tony-award winning play by Yasmina Reza about two sets of parents who meet to discuss a playground fight between their sons. What starts as a civilised evening descends into a chaotic and increasingly vicious argument between the adults.\n\nJoin us for a dynamic and fast-paced evening exploring human nature and the thin veneer of civility which masks our primal instincts!\n\n\n\n\n\n\n\n\n\n\n\nFor full details of show dates and booking\, see the Davenham Players Ticket Shop \n\nDoors Open at 7:00PM\nStarts at 7:30PM
URL:https://www.davenhamplayers.co.uk/event-and-production/god-of-carnage-by-yasmina-reza/2026-11-21/
LOCATION:Davenham Theatre\, 59 Church Street\, Northwich\, CW9 8NF\, United Kingdom
CATEGORIES:Drama
GEO:53.2367913;-2.5072065
X-APPLE-STRUCTURED-LOCATION;VALUE=URI;X-ADDRESS=Davenham Theatre 59 Church Street Northwich CW9 8NF United Kingdom;X-APPLE-RADIUS=500;X-TITLE=59 Church Street:geo:-2.5072065,53.2367913
END:VEVENT
END:VCALENDAR