BEGIN:VCALENDAR
VERSION:2.0
PRODID:-//The Davenham Players - ECPv6.15.20//NONSGML v1.0//EN
CALSCALE:GREGORIAN
METHOD:PUBLISH
X-WR-CALNAME:The Davenham Players
X-ORIGINAL-URL:https://www.davenhamplayers.co.uk
X-WR-CALDESC:Events for The Davenham Players
REFRESH-INTERVAL;VALUE=DURATION:PT1H
X-Robots-Tag:noindex
X-PUBLISHED-TTL:PT1H
BEGIN:VTIMEZONE
TZID:Europe/London
BEGIN:DAYLIGHT
TZOFFSETFROM:+0000
TZOFFSETTO:+0100
TZNAME:BST
DTSTART:20200329T010000
END:DAYLIGHT
BEGIN:STANDARD
TZOFFSETFROM:+0100
TZOFFSETTO:+0000
TZNAME:GMT
DTSTART:20201025T010000
END:STANDARD
BEGIN:DAYLIGHT
TZOFFSETFROM:+0000
TZOFFSETTO:+0100
TZNAME:BST
DTSTART:20210328T010000
END:DAYLIGHT
BEGIN:STANDARD
TZOFFSETFROM:+0100
TZOFFSETTO:+0000
TZNAME:GMT
DTSTART:20211031T010000
END:STANDARD
BEGIN:DAYLIGHT
TZOFFSETFROM:+0000
TZOFFSETTO:+0100
TZNAME:BST
DTSTART:20220327T010000
END:DAYLIGHT
BEGIN:STANDARD
TZOFFSETFROM:+0100
TZOFFSETTO:+0000
TZNAME:GMT
DTSTART:20221030T010000
END:STANDARD
END:VTIMEZONE
BEGIN:VEVENT
DTSTART;TZID=Europe/London:20211016T193000
DTEND;TZID=Europe/London:20211016T220000
DTSTAMP:20260425T030956
CREATED:20210728T194535Z
LAST-MODIFIED:20210918T155207Z
UID:10000213-1634412600-1634421600@www.davenhamplayers.co.uk
SUMMARY:Miscellany
DESCRIPTION:Davenham Players present: \nAn evening of  varied readings and sketches for your entertainment and to welcome you back into the theatre\nTickets £10   \nBookings on 01606 259596 \n  \n 
URL:https://www.davenhamplayers.co.uk/event-and-production/an-evening-of-monologues/2021-10-16/
LOCATION:Davenham Theatre\, 59 Church Street\, Northwich\, CW9 8NF\, United Kingdom
CATEGORIES:Drama,Featured
ORGANIZER;CN="Paulette Anderson":MAILTO:donpolander@tiscali.co.uk
GEO:53.2367913;-2.5072065
X-APPLE-STRUCTURED-LOCATION;VALUE=URI;X-ADDRESS=Davenham Theatre 59 Church Street Northwich CW9 8NF United Kingdom;X-APPLE-RADIUS=500;X-TITLE=59 Church Street:geo:-2.5072065,53.2367913
END:VEVENT
BEGIN:VEVENT
DTSTART;TZID=Europe/London:20211015T193000
DTEND;TZID=Europe/London:20211015T220000
DTSTAMP:20260425T030956
CREATED:20210728T194535Z
LAST-MODIFIED:20210918T155207Z
UID:10000212-1634326200-1634335200@www.davenhamplayers.co.uk
SUMMARY:Miscellany
DESCRIPTION:Davenham Players present: \nAn evening of  varied readings and sketches for your entertainment and to welcome you back into the theatre\nTickets £10   \nBookings on 01606 259596 \n  \n 
URL:https://www.davenhamplayers.co.uk/event-and-production/an-evening-of-monologues/2021-10-15/
LOCATION:Davenham Theatre\, 59 Church Street\, Northwich\, CW9 8NF\, United Kingdom
CATEGORIES:Drama,Featured
ORGANIZER;CN="Paulette Anderson":MAILTO:donpolander@tiscali.co.uk
GEO:53.2367913;-2.5072065
X-APPLE-STRUCTURED-LOCATION;VALUE=URI;X-ADDRESS=Davenham Theatre 59 Church Street Northwich CW9 8NF United Kingdom;X-APPLE-RADIUS=500;X-TITLE=59 Church Street:geo:-2.5072065,53.2367913
END:VEVENT
END:VCALENDAR