BEGIN:VCALENDAR
VERSION:2.0
PRODID:-//The Davenham Players - ECPv6.15.20//NONSGML v1.0//EN
CALSCALE:GREGORIAN
METHOD:PUBLISH
X-ORIGINAL-URL:https://www.davenhamplayers.co.uk
X-WR-CALDESC:Events for The Davenham Players
REFRESH-INTERVAL;VALUE=DURATION:PT1H
X-Robots-Tag:noindex
X-PUBLISHED-TTL:PT1H
BEGIN:VTIMEZONE
TZID:Europe/London
BEGIN:DAYLIGHT
TZOFFSETFROM:+0000
TZOFFSETTO:+0100
TZNAME:BST
DTSTART:20250330T010000
END:DAYLIGHT
BEGIN:STANDARD
TZOFFSETFROM:+0100
TZOFFSETTO:+0000
TZNAME:GMT
DTSTART:20251026T010000
END:STANDARD
BEGIN:DAYLIGHT
TZOFFSETFROM:+0000
TZOFFSETTO:+0100
TZNAME:BST
DTSTART:20260329T010000
END:DAYLIGHT
BEGIN:STANDARD
TZOFFSETFROM:+0100
TZOFFSETTO:+0000
TZNAME:GMT
DTSTART:20261025T010000
END:STANDARD
BEGIN:DAYLIGHT
TZOFFSETFROM:+0000
TZOFFSETTO:+0100
TZNAME:BST
DTSTART:20270328T010000
END:DAYLIGHT
BEGIN:STANDARD
TZOFFSETFROM:+0100
TZOFFSETTO:+0000
TZNAME:GMT
DTSTART:20271031T010000
END:STANDARD
END:VTIMEZONE
BEGIN:VEVENT
DTSTART;TZID=Europe/London:20260326T193000
DTEND;TZID=Europe/London:20260326T220000
DTSTAMP:20260424T182029
CREATED:20251109T192048Z
LAST-MODIFIED:20260228T233106Z
UID:10002513-1774553400-1774562400@www.davenhamplayers.co.uk
SUMMARY:Jazz Joe Masterson Trio with Suzi Woods
DESCRIPTION:JOE MASTERSON TRIO WITH SUZI WOODS\nTHURSDAY 26TH MARCH 2026\n\nDescribed by many as a rising star of the UK Jazz scene\, Joe Masterson\, a 2020 graduate from Leeds Conservatoire is a Birmingham based pianist making his mark on the Birmingham and Midlands Jazz scene. After playing to sell-out crowds across the Midlands\, performing at the likes of Cheltenham and Birmingham Jazz festival\, Joe is also known for Jazz at Fletchers- a monthly jazz club in Kings Heath\, Birmingham running for over the past 3 years. Here\, along with his trio of Miles Levin and Simon Smith\, he has collaborated with the likes of Simon Spillet\, Chris Bowden\, Suzi Woods\, Steve Ajao and many more. Influenced by the likes of Monty Alexander\, Oscar Peterson and Eddie Higgins\, the trio play a variety of music\, always looking to groove. \nSimon Smith is one of the UK’s most in demand bassists. He has worked extensively as a freelance musician throughout the UK\, Europe and the US\, including a five year stint based in Los Angeles. Simon’s recording credits include Stevie Nicks\, Sarah McLachlan\, Wilson Phillips\, Glen Ballard and Dave Stewart. He has worked in the live touring bands of artists as diverse as Idina Menzel\, Linda Perry\, Carl Barât and Carina Round performing at venues and events including Lincoln Center (New York)\, Ambassadors Theatre\, Glastonbury Festival\, South by Southwest and La Bâtie Festival (Geneva) amongst many others. \nMiles Levin is simply one of the finest jazz drummers in the whole of the UK\, respected and admired nationally. He has performed all over the UK and internationally with many of the UK’s leading artists. Miles studied at the Guildhall\, and is the son of the great Tony Levin\, who played regularly with Tubby Hayes. \nGuest vocalist Suzi Woods has collaborated with some of the most famous musicians on the continent\, such as Jools Holland\, Elton John and Annie Lennox. Her clientele has included celebrities like David Beckham\, Tiger Woods\, Valentino and Princess Caroline of Monaco. Suzi brings to life some greats from the American Songbook and mixes in a few surprises from more recent times to create her unique and classy show. \nLINE-UP \nJoe Masterson – KeyboardsSimon Smith – BassMiles Levin – DrumsSuzi Woods – Vocals. \n=========================================================== \n\nThe box office is able to take bookings for one gig at a time\, but do make a note of the dates which are of interest to you during our forthcoming season so that you can make your bookings at the appropriate time. \n\n\n\nIf possible\, make your requests via email\, but don’t forget to give us a little bit of notice if you know that you are going to be unable to attend.  We appreciate that there will always be unavoidable\, unforeseen circumstances\, but clearly we want to make places available and fill all possible seats\, particularly for gigs in high demand. \n\n\n\nWe are not a profit making organisation\, but we do want to keep breaking even in order to keep music live. \n\n\n\nBooking Enquiries  Call Keith on 07990 703 787\nor email jazz@davenham.co\n\n\n\nPlease do not assume that your places are confirmed unless you have had a response from J@D and\, if you have not\, then contact us again \n\n\n\nDoors & Bar 7.30pm Gigs start @ 8pm\n   Tickets £15\n\n\n\nFrom JAZZ@DAVENHAM TEAM\nGREAT GIGS\nFABULOUS BANDS\nClick to see the full Jazz Programme
URL:https://www.davenhamplayers.co.uk/event-and-production/jazz-jo-masterson-trio-with-suzi-woods/
LOCATION:Davenham Theatre\, 59 Church Street\, Northwich\, CW9 8NF\, United Kingdom
CATEGORIES:Music,Jazz,Featured
ATTACH;FMTTYPE=image/jpeg:https://www.davenhamplayers.co.uk/wp-content/uploads/2025/11/JoeMastersonTrioWithSuziWoods.jpg
GEO:53.2367913;-2.5072065
X-APPLE-STRUCTURED-LOCATION;VALUE=URI;X-ADDRESS=Davenham Theatre 59 Church Street Northwich CW9 8NF United Kingdom;X-APPLE-RADIUS=500;X-TITLE=59 Church Street:geo:-2.5072065,53.2367913
END:VEVENT
END:VCALENDAR