BEGIN:VCALENDAR
VERSION:2.0
PRODID:-//The Davenham Players - ECPv6.15.20//NONSGML v1.0//EN
CALSCALE:GREGORIAN
METHOD:PUBLISH
X-WR-CALNAME:The Davenham Players
X-ORIGINAL-URL:https://www.davenhamplayers.co.uk
X-WR-CALDESC:Events for The Davenham Players
REFRESH-INTERVAL;VALUE=DURATION:PT1H
X-Robots-Tag:noindex
X-PUBLISHED-TTL:PT1H
BEGIN:VTIMEZONE
TZID:Europe/London
BEGIN:DAYLIGHT
TZOFFSETFROM:+0000
TZOFFSETTO:+0100
TZNAME:BST
DTSTART:20150329T010000
END:DAYLIGHT
BEGIN:STANDARD
TZOFFSETFROM:+0100
TZOFFSETTO:+0000
TZNAME:GMT
DTSTART:20151025T010000
END:STANDARD
BEGIN:DAYLIGHT
TZOFFSETFROM:+0000
TZOFFSETTO:+0100
TZNAME:BST
DTSTART:20160327T010000
END:DAYLIGHT
BEGIN:STANDARD
TZOFFSETFROM:+0100
TZOFFSETTO:+0000
TZNAME:GMT
DTSTART:20161030T010000
END:STANDARD
BEGIN:DAYLIGHT
TZOFFSETFROM:+0000
TZOFFSETTO:+0100
TZNAME:BST
DTSTART:20170326T010000
END:DAYLIGHT
BEGIN:STANDARD
TZOFFSETFROM:+0100
TZOFFSETTO:+0000
TZNAME:GMT
DTSTART:20171029T010000
END:STANDARD
BEGIN:DAYLIGHT
TZOFFSETFROM:+0000
TZOFFSETTO:+0100
TZNAME:BST
DTSTART:20180325T010000
END:DAYLIGHT
BEGIN:STANDARD
TZOFFSETFROM:+0100
TZOFFSETTO:+0000
TZNAME:GMT
DTSTART:20181028T010000
END:STANDARD
BEGIN:DAYLIGHT
TZOFFSETFROM:+0000
TZOFFSETTO:+0100
TZNAME:BST
DTSTART:20190331T010000
END:DAYLIGHT
BEGIN:STANDARD
TZOFFSETFROM:+0100
TZOFFSETTO:+0000
TZNAME:GMT
DTSTART:20191027T010000
END:STANDARD
BEGIN:DAYLIGHT
TZOFFSETFROM:+0000
TZOFFSETTO:+0100
TZNAME:BST
DTSTART:20200329T010000
END:DAYLIGHT
BEGIN:STANDARD
TZOFFSETFROM:+0100
TZOFFSETTO:+0000
TZNAME:GMT
DTSTART:20201025T010000
END:STANDARD
BEGIN:DAYLIGHT
TZOFFSETFROM:+0000
TZOFFSETTO:+0100
TZNAME:BST
DTSTART:20210328T010000
END:DAYLIGHT
BEGIN:STANDARD
TZOFFSETFROM:+0100
TZOFFSETTO:+0000
TZNAME:GMT
DTSTART:20211031T010000
END:STANDARD
BEGIN:DAYLIGHT
TZOFFSETFROM:+0000
TZOFFSETTO:+0100
TZNAME:BST
DTSTART:20220327T010000
END:DAYLIGHT
BEGIN:STANDARD
TZOFFSETFROM:+0100
TZOFFSETTO:+0000
TZNAME:GMT
DTSTART:20221030T010000
END:STANDARD
END:VTIMEZONE
BEGIN:VEVENT
DTSTART;TZID=Europe/London:20211216T193000
DTEND;TZID=Europe/London:20211216T220000
DTSTAMP:20260424T231902
CREATED:20210815T201929Z
LAST-MODIFIED:20211208T214413Z
UID:10000224-1639683000-1639692000@www.davenhamplayers.co.uk
SUMMARY:Jazz Tom Seals
DESCRIPTION:GIG SOLD OUT!\nFresh from his sell-out “Let The Good Times Roll” Tour – Tom Seals\, “quite possibly the future of \njazz and blues”\, has the world at this fingertips. His virtuoso solo-ing\, excellent improvisations \nskills and distinctive voice have left top industry voices hailing him the UK’s finest boogie woogie\nand blues pianist/vocalist.  \nStill only in his twenties\, Seals is surely destined for greatness. Hot on the heels of sold-out shows \nacross the globe including London’s legendary Ronnie Scott’s\, a stunning performance at Birdland \nJazz Club on Broadway in New York and sessions with Jools Holland\, Tom Seals’ star is destined\nto soar stratospherically in 2021 with the release of his debut album\, own TV show and festival appearances worldwide. \nBookings can be made via email : jazz@davenham.co or telephone Harry on 07717 224238  01606 74502  Doors open at 7.30 music starts at 8pm.Tickets are £15 on the door (tbc) \nIf you are suffering from Covid symptoms please do not attend and in any case advise us if you are unable to attend for any reason. \nFrom JAZZ@DAVENHAM TEAM\nGREAT GIGS\nFABULOUS BANDS \nSPONSORED BY TATTON BREWERY\nwww.tattonbrewery.co.uk
URL:https://www.davenhamplayers.co.uk/event-and-production/jazz-tom-seals/
LOCATION:Davenham Theatre\, 59 Church Street\, Northwich\, CW9 8NF\, United Kingdom
CATEGORIES:Music,Jazz
GEO:53.2367913;-2.5072065
X-APPLE-STRUCTURED-LOCATION;VALUE=URI;X-ADDRESS=Davenham Theatre 59 Church Street Northwich CW9 8NF United Kingdom;X-APPLE-RADIUS=500;X-TITLE=59 Church Street:geo:-2.5072065,53.2367913
END:VEVENT
BEGIN:VEVENT
DTSTART;TZID=Europe/London:20211125T193000
DTEND;TZID=Europe/London:20211125T220000
DTSTAMP:20260424T231902
CREATED:20210413T204515Z
LAST-MODIFIED:20211101T220808Z
UID:10000202-1637868600-1637877600@www.davenhamplayers.co.uk
SUMMARY:Jazz Apitos Pequeno
DESCRIPTION:Apitos Pequeno play Latin American-influenced jazz and are led by Dave Hassell\, one of the UK’s finest drummers and percussionists. \nFeaturing saxophonist Andy Scott\, leader of the nine sax-led Sax Assault and who has performed across Europe and Japan as leader of the Apollo Sax Quartet. \nOther band members are \nPaul Kilvington piano\, Stevie Williams  bass\, Chris Manus conga \nBookings can be made via email : jazz@davenham.co or telephone Harry on 07717 224 238/ 01606 74502 \n Doors open at 7.30 music starts at 8pm.Tickets are £12 on the door. \nIf you are suffering from Covid symptoms please do not attend and in any case advise us if you are unable to attend for any reason. \nFrom JAZZ@DAVENHAM TEAM\nGREAT GIGS\nFABULOUS BANDS \nSPONSORED BY TATTON BREWERY\nwww.tattonbrewery.co.uk
URL:https://www.davenhamplayers.co.uk/event-and-production/jazz-apitos/
LOCATION:Davenham Theatre\, 59 Church Street\, Northwich\, CW9 8NF\, United Kingdom
CATEGORIES:Music,Jazz,Featured
GEO:53.2367913;-2.5072065
X-APPLE-STRUCTURED-LOCATION;VALUE=URI;X-ADDRESS=Davenham Theatre 59 Church Street Northwich CW9 8NF United Kingdom;X-APPLE-RADIUS=500;X-TITLE=59 Church Street:geo:-2.5072065,53.2367913
END:VEVENT
BEGIN:VEVENT
DTSTART;TZID=Europe/London:20211028T193000
DTEND;TZID=Europe/London:20211028T220000
DTSTAMP:20260424T231902
CREATED:20210326T161127Z
LAST-MODIFIED:20211018T122354Z
UID:10000453-1635449400-1635458400@www.davenhamplayers.co.uk
SUMMARY:Jazz Greg Abate
DESCRIPTION:Greg Abate is an American alto sax/ flute player who regularly tours uk. He is embarking on a 4 week tour covering 26 gigs all over uk with first stop at Davenham. He will be using a local rhythm section for our gig consisting of:- \nDave Hassell – drums \nAndre Baronek – keyboards \nDave Lynane – bass \nwww.gregabate.com \nBookings can be made via email : jazz@davenham.co or telephone Harry on 07717 224 238/01606 74502 \n Doors open at 7.30 music at 8pm.Tickets £12 on the door. \nIf you are suffering from Covid symptoms please do not attend and in any case advise us if you are unable to attend for any reason. \nFrom JAZZ@DAVENHAM TEAM\nGREAT GIGS\nFABULOUS BANDS \nSPONSORED BY TATTON BREWERY\nwww.tattonbrewery.co.uk
URL:https://www.davenhamplayers.co.uk/event-and-production/jazz-greg-abate-2/
LOCATION:Davenham Theatre\, 59 Church Street\, Northwich\, CW9 8NF\, United Kingdom
CATEGORIES:Music,Jazz,Featured
GEO:53.2367913;-2.5072065
X-APPLE-STRUCTURED-LOCATION;VALUE=URI;X-ADDRESS=Davenham Theatre 59 Church Street Northwich CW9 8NF United Kingdom;X-APPLE-RADIUS=500;X-TITLE=59 Church Street:geo:-2.5072065,53.2367913
END:VEVENT
BEGIN:VEVENT
DTSTART;TZID=Europe/London:20211008T193000
DTEND;TZID=Europe/London:20211008T220000
DTSTAMP:20260424T231902
CREATED:20210811T212605Z
LAST-MODIFIED:20211001T173441Z
UID:10000219-1633721400-1633730400@www.davenhamplayers.co.uk
SUMMARY:Jazz Kevin Hassett Redux
DESCRIPTION:Kevin Hassett Redux\n \nKevin Hassett’s Redux returns for a second time to Davenham to present their new show ‘Connections’ now unofficially subtitled ‘As we were about to say before we were so rudely interrupted’ \n‘Connections’ is a Jazz based entertainment featuring classic jazz tunes\, anecdote and perhaps even the odd bit of poetry . \nThe Band consist of Kevin Hassett vocals\, Paul Matthews Guitar\, Rob Phillips Drums and Martin Alcock Bass. \nMore information on Redux and the ‘Connections’ show may be found at www.kevinhassettredux.co.uk \nBookings can be made via email : jazz@davenham.co or telephone Harry on 07717224238/0160674502 . Doors open at 7.30 music starts at 8pm.Tickets are £12 on the door. \nIf you are suffering from Covid symptoms please do not attend and in any case advise us if you are unable to attend for any reason. \nFrom JAZZ@DAVENHAM TEAM\nGREAT GIGS\nFABULOUS BANDS \nSPONSORED BY TATTON BREWERY\nwww.tattonbrewery.co.uk
URL:https://www.davenhamplayers.co.uk/event-and-production/jazz-kevin-hassett-redux/
LOCATION:Davenham Theatre\, 59 Church Street\, Northwich\, CW9 8NF\, United Kingdom
CATEGORIES:Music,Jazz,Featured
GEO:53.2367913;-2.5072065
X-APPLE-STRUCTURED-LOCATION;VALUE=URI;X-ADDRESS=Davenham Theatre 59 Church Street Northwich CW9 8NF United Kingdom;X-APPLE-RADIUS=500;X-TITLE=59 Church Street:geo:-2.5072065,53.2367913
END:VEVENT
BEGIN:VEVENT
DTSTART;TZID=Europe/London:20210930T193000
DTEND;TZID=Europe/London:20210930T220000
DTSTAMP:20260424T231902
CREATED:20210326T160242Z
LAST-MODIFIED:20211005T125700Z
UID:10000452-1633030200-1633039200@www.davenhamplayers.co.uk
SUMMARY:Jazz Jeremy Sassoon
DESCRIPTION:Jeremy Sassoon played Davenham in 2019\, popular vocalist and keyboard player\, probably quartet. Music style is accessible jazz\, blues etc. \nThe lineup for this evening is: \n\nVocals/Keys – Jeremy Sassoon\nSax – Iain Dixon\nBass – Richard Hammond\nDrums – Phil Johnson\n\nwww.jeremysassoon.com \nBookings can be made via email : jazz@davenham.co or telephone Harry on 07717224238/0160674502 . Doors open at 7.30 music starts at 8pm.Tickets are £12 on the door. \nIf you are suffering from Covid symptoms please do not attend and in any case advise us if you are unable to attend for any reason. \nFrom JAZZ@DAVENHAM TEAM\nGREAT GIGS\nFABULOUS BANDS \nSPONSORED BY TATTON BREWERY\nwww.tattonbrewery.co.uk
URL:https://www.davenhamplayers.co.uk/event-and-production/jazz-jeremy-sassoon/
LOCATION:Davenham Theatre\, 59 Church Street\, Northwich\, CW9 8NF\, United Kingdom
CATEGORIES:Music,Jazz,Featured
GEO:53.2367913;-2.5072065
X-APPLE-STRUCTURED-LOCATION;VALUE=URI;X-ADDRESS=Davenham Theatre 59 Church Street Northwich CW9 8NF United Kingdom;X-APPLE-RADIUS=500;X-TITLE=59 Church Street:geo:-2.5072065,53.2367913
END:VEVENT
BEGIN:VEVENT
DTSTART;TZID=Europe/London:20210826T200000
DTEND;TZID=Europe/London:20210826T220000
DTSTAMP:20260424T231902
CREATED:20210326T155647Z
LAST-MODIFIED:20211005T125841Z
UID:10000454-1630008000-1630015200@www.davenhamplayers.co.uk
SUMMARY:Jazz Steve Oakes Quartet
DESCRIPTION:LINE-UP \nSteve Oakes – Guitar \nEd Kainyek – Saxes \nTim Franks – Drums \nGavin Barras – Bass \nSTEVE OAKES QUARTET \nThe band performs an eclectic mixture of modern jazz styles comprising be-bop\, latin jazz\, funk and contemporary takes on standards.Original compositions are interspersed with pieces by jazz icons including Pat Metheny and Courtney Pine. The solos are frequently passionate and intense\, while at other times subtle and reflective. The band has performed at countless jazz venues in recent years as well as major festivals including the  International Guitar Festival of Great Britain\, the Manchester Jazz Festival\, the Wigan Jazz Festival\, the Southport Jazz Festival\, and the Nantwich Jazz\, Blues and Music Festival. The band is fronted by Steve Oakes on guitar with Ed Kainyek on sax\, Gavin Barras on bass and Tim Franks on drums. \nBookings can be made via email : jazz@davenham.co or telephone Harry on 07717224238/0160674502 . Doors open at 7.30 music starts at 8pm.Tickets are £10 on the door. \nIf you are suffering from Covid symptoms please do not attend and in any case advise us if you are unable to attend for any reason. \nFrom JAZZ@DAVENHAM TEAM\nGREAT GIGS\nFABULOUS BANDS \nSPONSORED BY TATTON BREWERY\nwww.tattonbrewery.co.uk
URL:https://www.davenhamplayers.co.uk/event-and-production/jazz-steve-oakes/
LOCATION:Davenham Theatre\, 59 Church Street\, Northwich\, CW9 8NF\, United Kingdom
CATEGORIES:Music,Jazz,Featured
GEO:53.2367913;-2.5072065
X-APPLE-STRUCTURED-LOCATION;VALUE=URI;X-ADDRESS=Davenham Theatre 59 Church Street Northwich CW9 8NF United Kingdom;X-APPLE-RADIUS=500;X-TITLE=59 Church Street:geo:-2.5072065,53.2367913
END:VEVENT
BEGIN:VEVENT
DTSTART;TZID=Europe/London:20210729T200000
DTEND;TZID=Europe/London:20210729T230000
DTSTAMP:20260424T231902
CREATED:20210326T152840Z
LAST-MODIFIED:20211005T125919Z
UID:10000435-1627588800-1627599600@www.davenhamplayers.co.uk
SUMMARY:Jazz Amy Roberts
DESCRIPTION:Hope you are all well and looking forward to our first gig at Davenham since lockdown as much as we are. \nWe are pleased to announce that the ever popular Amy Roberts / Rod Hallam Quintet will be performing for us on Thursday 29th July. The rest of the lineup is Nick Millward – drums\, Tom Kincaid -piano\, Ed Harrison – bass. \nUnder current Covid restrictions at this present time audience numbers are limited to a maximum of 40 and social distancing and face covering rules are in place. However we hope that these restrictions will be lifted on July 19th so that we can have a full attendance. \nA risk assessment has been carried out and we will be taking all necessary precautions to ensure all attending are kept safe and secure. The band will have lateral flow tests on the day of the gig. If necessary plastic screens will be used between the band and audience. \nAny bookings exceeding 40 will be placed on a waiting list and hopefully confirmed depending on the operating conditions permitted from July 19th. \nBookings can be made via email : jazz@davenham.co or telephone Harry on 07717224238/0160674502 . Doors open at 7.30 music starts at 8pm.Tickets are £10 on the door. \nIf you are suffering from Covid symptoms please do not attend and in any case advise us if you are unable to attend for any reason. \nFrom JAZZ@DAVENHAM TEAM\nGREAT GIGS\nFABULOUS BANDS \nSPONSORED BY TATTON BREWERY\nwww.tattonbrewery.co.uk
URL:https://www.davenhamplayers.co.uk/event-and-production/jazz-amy-roberts/
LOCATION:Davenham Theatre\, 59 Church Street\, Northwich\, CW9 8NF\, United Kingdom
CATEGORIES:Music,Jazz,Featured
GEO:53.2367913;-2.5072065
X-APPLE-STRUCTURED-LOCATION;VALUE=URI;X-ADDRESS=Davenham Theatre 59 Church Street Northwich CW9 8NF United Kingdom;X-APPLE-RADIUS=500;X-TITLE=59 Church Street:geo:-2.5072065,53.2367913
END:VEVENT
BEGIN:VEVENT
DTSTART;TZID=Europe/London:20160303T190000
DTEND;TZID=Europe/London:20160303T220000
DTSTAMP:20260424T231902
CREATED:20160302T135555Z
LAST-MODIFIED:20160303T142057Z
UID:10000007-1457031600-1457042400@www.davenhamplayers.co.uk
SUMMARY:Sir John Deane's Jazz Band
DESCRIPTION:Sir John Deane’s Jazz Band are giving a Charity Concert in aid of St Luke’s Hospice on THURSDAY 3rd MARCH 2016 at Northwich Memorial Court\, Chester Way\, Northwich\, Cheshire CW9 5QJ.\nStarts 7.00pm TICKETS £7 \nSir John Deane’s Jazz Band will play a repertoire of popular blues and jazz through to modern swing. The band was formed in September 2013 and has been hugely successful\, grown rapidly and now features twenty talented musicians and vocalists. They make an impressive sound with rhythm\, brass and woodwind sections. The band has previously performed for charity including a concert at Eaton Hall and a stunning evening of jazz and swing at the Macdonald Portal in Tarporley. \nYou can buy tickets (£7.00) for this great evening’s entertainment via DANArts and St Luke’s Hospice (an excellent local charity) or at the Jazz@Davenham February concert. Or you can book online at Northwich Memorial Court – Brio Leisure Entertainment https://theatrebooking.brioleisure.org \n 
URL:https://www.davenhamplayers.co.uk/event-and-production/sir-john-deanes-jazz-band/
LOCATION:Northwich Memorial Court\, Northwich\, CW9 5QJ\, United Kingdom
CATEGORIES:Jazz
GEO:53.2608967;-2.5086635
END:VEVENT
END:VCALENDAR