BEGIN:VCALENDAR
VERSION:2.0
PRODID:-//The Davenham Players - ECPv6.15.20//NONSGML v1.0//EN
CALSCALE:GREGORIAN
METHOD:PUBLISH
X-ORIGINAL-URL:https://www.davenhamplayers.co.uk
X-WR-CALDESC:Events for The Davenham Players
REFRESH-INTERVAL;VALUE=DURATION:PT1H
X-Robots-Tag:noindex
X-PUBLISHED-TTL:PT1H
BEGIN:VTIMEZONE
TZID:Europe/London
BEGIN:DAYLIGHT
TZOFFSETFROM:+0000
TZOFFSETTO:+0100
TZNAME:BST
DTSTART:20160327T010000
END:DAYLIGHT
BEGIN:STANDARD
TZOFFSETFROM:+0100
TZOFFSETTO:+0000
TZNAME:GMT
DTSTART:20161030T010000
END:STANDARD
BEGIN:DAYLIGHT
TZOFFSETFROM:+0000
TZOFFSETTO:+0100
TZNAME:BST
DTSTART:20170326T010000
END:DAYLIGHT
BEGIN:STANDARD
TZOFFSETFROM:+0100
TZOFFSETTO:+0000
TZNAME:GMT
DTSTART:20171029T010000
END:STANDARD
BEGIN:DAYLIGHT
TZOFFSETFROM:+0000
TZOFFSETTO:+0100
TZNAME:BST
DTSTART:20180325T010000
END:DAYLIGHT
BEGIN:STANDARD
TZOFFSETFROM:+0100
TZOFFSETTO:+0000
TZNAME:GMT
DTSTART:20181028T010000
END:STANDARD
BEGIN:DAYLIGHT
TZOFFSETFROM:+0000
TZOFFSETTO:+0100
TZNAME:BST
DTSTART:20190331T010000
END:DAYLIGHT
BEGIN:STANDARD
TZOFFSETFROM:+0100
TZOFFSETTO:+0000
TZNAME:GMT
DTSTART:20191027T010000
END:STANDARD
BEGIN:DAYLIGHT
TZOFFSETFROM:+0000
TZOFFSETTO:+0100
TZNAME:BST
DTSTART:20200329T010000
END:DAYLIGHT
BEGIN:STANDARD
TZOFFSETFROM:+0100
TZOFFSETTO:+0000
TZNAME:GMT
DTSTART:20201025T010000
END:STANDARD
END:VTIMEZONE
BEGIN:VEVENT
DTSTART;TZID=Europe/London:20190610T193000
DTEND;TZID=Europe/London:20190610T213000
DTSTAMP:20260424T202223
CREATED:20190522T120207Z
LAST-MODIFIED:20190522T120925Z
UID:10000350-1560195000-1560202200@www.davenhamplayers.co.uk
SUMMARY:LitFest Anne Williams
DESCRIPTION:===================================================== \nConfused about blogging? Not sure what it is? Well now’s the time to find out!  \nIn the world of books\, Anne Williams is one of the most well-respected of all book reviewers\, publishing her findings in her blog\, as well as elsewhere. We are delighted that she has chosen to speak at our LitFest!   \nAnne’s blog\, Being Anne…\, has a huge following\, and in it she writes not only about books but also ‘about travel\, and other things that make life interesting’.  \n================================================= \nYou can view the full LitFest programme online at http://www.northwichlitfest.co.uk/p/programme.html \nTo book your tickets @ £5.00\, either click here to book online\, email Susi Osborne  or call 01606 553433 \nAll events start at 7.30pm unless otherwise stated
URL:https://www.davenhamplayers.co.uk/event-and-production/litfest-anne-williams/
LOCATION:Davenham Theatre\, 59 Church Street\, Northwich\, CW9 8NF\, United Kingdom
CATEGORIES:Litfest,Featured
GEO:53.2367913;-2.5072065
X-APPLE-STRUCTURED-LOCATION;VALUE=URI;X-ADDRESS=Davenham Theatre 59 Church Street Northwich CW9 8NF United Kingdom;X-APPLE-RADIUS=500;X-TITLE=59 Church Street:geo:-2.5072065,53.2367913
END:VEVENT
BEGIN:VEVENT
DTSTART;TZID=Europe/London:20190607T193000
DTEND;TZID=Europe/London:20190607T213000
DTSTAMP:20260424T202223
CREATED:20190522T115552Z
LAST-MODIFIED:20190522T120951Z
UID:10000349-1559935800-1559943000@www.davenhamplayers.co.uk
SUMMARY:LitFest Jane James
DESCRIPTION:===================================================== \nJane James is the amazingly talented writer of Dorothy – The Airings of an Archers Actors Aunt\, which was performed to standing ovation by Sunny Ormonde (The Archers Lilian Bellamy) when it premiered at Northwich LitFest a couple of years ago\, prior to its nationwide tour.  \nJane’s writing is superb\, and has been compared to that of Victoria Wood – full of laughter-producing wit and yet some poignancy also. At this event Jane will be talking about her writing and about how she gets her plays performed.  \nShe will also be bringing along some of the pieces she has written – some willing volunteers may be required! Expect a fun evening with lots of laughter! \n================================================= \nYou can view the full LitFest programme online at http://www.northwichlitfest.co.uk/p/programme.html \nTo book your tickets @ £5.00\, either click here to book online\, email Susi Osborne  or call 01606 553433 \nAll events start at 7.30pm unless otherwise stated
URL:https://www.davenhamplayers.co.uk/event-and-production/litfest-jane-james/
LOCATION:Davenham Theatre\, 59 Church Street\, Northwich\, CW9 8NF\, United Kingdom
CATEGORIES:Litfest,Featured
GEO:53.2367913;-2.5072065
X-APPLE-STRUCTURED-LOCATION;VALUE=URI;X-ADDRESS=Davenham Theatre 59 Church Street Northwich CW9 8NF United Kingdom;X-APPLE-RADIUS=500;X-TITLE=59 Church Street:geo:-2.5072065,53.2367913
END:VEVENT
BEGIN:VEVENT
DTSTART;TZID=Europe/London:20180630T193000
DTEND;TZID=Europe/London:20180630T213000
DTSTAMP:20260424T202223
CREATED:20171218T174319Z
LAST-MODIFIED:20180415T221125Z
UID:10000307-1530387000-1530394200@www.davenhamplayers.co.uk
SUMMARY:Litfest - Sunny Ormonde
DESCRIPTION:‘Another Evening with…Sunny Ormonde!’ \nNorthwich loves Sunny Ormonde & we just can’t wait to have her back here with us again. Book early for this – tickets sell out every year. More fun\, frolics\, recitations and musings from THE ARCHERS with ‘Lilian Bellamy’…and of course\, more from Sunny herself too! There may even be an opportunity for some audience participation… \n£12 – Click here to book Online\nTo book your tickets\, either click on the above link to book online\, \nemail susi.osborne@hotmail.co.uk or call 01606 553433\n\n\nDownload the LitFest Brochure as a pdf here.
URL:https://www.davenhamplayers.co.uk/event-and-production/litfest-sunny-ormonde-2/
LOCATION:Davenham Theatre\, 59 Church Street\, Northwich\, CW9 8NF\, United Kingdom
CATEGORIES:Litfest
GEO:53.2367913;-2.5072065
X-APPLE-STRUCTURED-LOCATION;VALUE=URI;X-ADDRESS=Davenham Theatre 59 Church Street Northwich CW9 8NF United Kingdom;X-APPLE-RADIUS=500;X-TITLE=59 Church Street:geo:-2.5072065,53.2367913
END:VEVENT
BEGIN:VEVENT
DTSTART;TZID=Europe/London:20180623T193000
DTEND;TZID=Europe/London:20180623T213000
DTSTAMP:20260424T202223
CREATED:20180218T203914Z
LAST-MODIFIED:20180415T221919Z
UID:10000241-1529782200-1529789400@www.davenhamplayers.co.uk
SUMMARY:LitFest Sophie Parkin\, Wilma Johnson
DESCRIPTION:Sophie Parkin ‘In Conversation’ with Wilma Johnson\nDavenham Theatre \nWriter\, artist\, actor\, artist club owner and daughter of Molly\, Sophie Parkin was one of the highlights of our LitFest last year when she regaled us with her scurrilous tales of Soho – it was quite a night! This time Sophie will be ‘In Conversation’ with artist/writer Wilma Johnson\, whose mid-life crisis changed her from housewife to surfer! Sounds interesting? It’s never too late to do anything…Wilma’s travel memoir is like no other. \n \n\n\n£5 – Click here to book Online\nTo book your tickets\, either click on the above link to book online\, \nemail susi.osborne@hotmail.co.uk or call 01606 553433\n\n\nDownload the LitFest Brochure as a pdf here.
URL:https://www.davenhamplayers.co.uk/event-and-production/litfest-sophie-parkin-2/
LOCATION:Davenham Theatre\, 59 Church Street\, Northwich\, CW9 8NF\, United Kingdom
CATEGORIES:Litfest
GEO:53.2367913;-2.5072065
X-APPLE-STRUCTURED-LOCATION;VALUE=URI;X-ADDRESS=Davenham Theatre 59 Church Street Northwich CW9 8NF United Kingdom;X-APPLE-RADIUS=500;X-TITLE=59 Church Street:geo:-2.5072065,53.2367913
END:VEVENT
BEGIN:VEVENT
DTSTART;TZID=Europe/London:20180618T193000
DTEND;TZID=Europe/London:20180618T213000
DTSTAMP:20260424T202223
CREATED:20180305T222003Z
LAST-MODIFIED:20180415T222225Z
UID:10000240-1529350200-1529357400@www.davenhamplayers.co.uk
SUMMARY:Litfest Christie Barlow and Zara Stoneley
DESCRIPTION:Christie Barlow & Zara Stoneley \n\nBestselling author of 7 novels\, Christie Barlow originates from Northwich. Her writing career came as somewhat of a surprise when she decided to write a book to teach her children a valuable life lesson and show them that they are capable of achieving their dreams. She has certainly succeeded! When writing The Cosy Canal Boat Dream\, Christie’s research was aided by our very own narrowboat-dwelling LitFest regular\, Paula Jackson!\n\nZara Stoneley lives in Knutsford\, she has been writing stories for almost as long as she’s been able to read. Nevertheless\, she had a variety of careers before deciding to buckle down and write the novel she’d always wanted to – before she hit fifty! The Wedding Date  is the tenth novel she’s had published by HarperCollins. She writes heartwarming\, humorous stories about life and love. \n\n\nChristie and Zara share the same publisher and will discuss their road to publication. \n\n£5 – Click here to book Online\nTo book your tickets\, either click on the above link to book online\, \nemail susi.osborne@hotmail.co.uk or call 01606 553433\n\n\nDownload the LitFest Brochure as a pdf here.
URL:https://www.davenhamplayers.co.uk/event-and-production/litfest-christie-barlow-zara-stoneley/
LOCATION:Davenham Theatre\, 59 Church Street\, Northwich\, CW9 8NF\, United Kingdom
CATEGORIES:Litfest
GEO:53.2367913;-2.5072065
X-APPLE-STRUCTURED-LOCATION;VALUE=URI;X-ADDRESS=Davenham Theatre 59 Church Street Northwich CW9 8NF United Kingdom;X-APPLE-RADIUS=500;X-TITLE=59 Church Street:geo:-2.5072065,53.2367913
END:VEVENT
BEGIN:VEVENT
DTSTART;TZID=Europe/London:20180615T193000
DTEND;TZID=Europe/London:20180615T213000
DTSTAMP:20260424T202223
CREATED:20171218T173817Z
LAST-MODIFIED:20180415T222454Z
UID:10000296-1529091000-1529098200@www.davenhamplayers.co.uk
SUMMARY:Litfest - Vanessa Nuttall
DESCRIPTION: Vanessa Nuttall \nVanessa Nuttall works as a freelance sound engineer working predominantly in radio\, her greatest love. She has created a niche making sound effects for radio plays and specifically for the ‘longest running soap opera in the world’\, BBC Radio 4’s The Archers. \n\nStep into the fascinating audio world of radio where pictures are painted through the ears and learn how it is done in this entertaining talk and demonstration. Ever wondered how the sound of a calf being born is reproduced in The Archers? Or what secret device might lie behind the farmyard gates of Brookfield? Perhaps you might have heard Pat’s goat being milked\, or Helen making artisan cheese in her dairy. All these sound effects  have to be created and produced at the right time and in the right place as the actors perform their lines by a ‘Spot Effects Studio Manager’ …and that is Vanessa!  Come & find out how she does her job and\, perhaps even have a go. Plastic sheeting has been requested – it may be messy! \n\n£8 – Click here to book Online\nTo book your tickets\, either click on the above link to book online\, \nemail susi.osborne@hotmail.co.uk or call 01606 553433\n\n\nDownload the LitFest Brochure as a pdf here.
URL:https://www.davenhamplayers.co.uk/event-and-production/litfest-vanessa-nuttall/
LOCATION:Davenham Theatre\, 59 Church Street\, Northwich\, CW9 8NF\, United Kingdom
CATEGORIES:Litfest
GEO:53.2367913;-2.5072065
X-APPLE-STRUCTURED-LOCATION;VALUE=URI;X-ADDRESS=Davenham Theatre 59 Church Street Northwich CW9 8NF United Kingdom;X-APPLE-RADIUS=500;X-TITLE=59 Church Street:geo:-2.5072065,53.2367913
END:VEVENT
BEGIN:VEVENT
DTSTART;TZID=Europe/London:20180612T193000
DTEND;TZID=Europe/London:20180612T213000
DTSTAMP:20260424T202223
CREATED:20180305T231427Z
LAST-MODIFIED:20180415T222607Z
UID:10000239-1528831800-1528839000@www.davenhamplayers.co.uk
SUMMARY:Litfest Susi Osborne
DESCRIPTION: Susi Osborne \nCome and join Susi to hear more about her fourth novel and how her past year has unfolded. AND\, we all love a bargain…a FREE copy of Angelica Stone with every ticket purchased!!! (a good present for someone if you already own a copy). PLUS\, nibbles…it’s almost like a party!! \nSee what the reviewers are saying about Angelica Stone:\n‘A dark and delicious surprise from beginning to end’…’Refreshingly different and so very well written.’ Anne Williams.\n‘Both Angelica and Lola became very close to my heart whilst reading and I think they took a little bit of it with them when they left me.’ Jojomaman.\n‘The plot is neat and well executed with a great twist’…’some great characters who you worry about long after you’ve finished reading.’ Bookbag.\n‘Keeps you gripped from start to finish’…’Shocking and explosive\, just what you need for a good read.’ Amazon customer. \n\n£5 – Click here to book Online\nTo book your tickets\, either click on the above link to book online\, \nemail susi.osborne@hotmail.co.uk or call 01606 553433\n\n\nDownload the LitFest Brochure as a pdf here.
URL:https://www.davenhamplayers.co.uk/event-and-production/litfest-susi-osborne-2/
LOCATION:Davenham Theatre\, 59 Church Street\, Northwich\, CW9 8NF\, United Kingdom
CATEGORIES:Litfest
GEO:53.2367913;-2.5072065
X-APPLE-STRUCTURED-LOCATION;VALUE=URI;X-ADDRESS=Davenham Theatre 59 Church Street Northwich CW9 8NF United Kingdom;X-APPLE-RADIUS=500;X-TITLE=59 Church Street:geo:-2.5072065,53.2367913
END:VEVENT
BEGIN:VEVENT
DTSTART;TZID=Europe/London:20180608T193000
DTEND;TZID=Europe/London:20180608T213000
DTSTAMP:20260424T202223
CREATED:20180305T232524Z
LAST-MODIFIED:20180531T211830Z
UID:10000238-1528486200-1528493400@www.davenhamplayers.co.uk
SUMMARY:Litfest Grant Gillespie
DESCRIPTION: Grant Gillespie\n\n\nSoho-ite Grant is a novelist\, screenwriter & actor. As an actor he’s had many TV and film roles – his credits include Eastenders\, Holby City\, Doctors\, Midsomer Murders\, Casualty\, Kingsman\, Florence Foster Jenkins\, and many\, many more. His debut novel tells the story of an unusal boy adopted by well-meaning parents who are anxious to conform. James has landed in the wrong nest – he enters a family where any wrong can be righted by a half-hearted trip to church. His imagination comes to his rescue in the form of an invisible friend\, David\, but then he meets a real-life David. But as James becomes more sociable he also becomes more vulnerable. Once hurt\, his revenge leads to an act which shocks his community and breaks the hearts of his parents. \n\n£5 – Click here to book Online\nTo book your tickets\, either click on the above link to book online\, \nemail susi.osborne@hotmail.co.uk or call 01606 553433\n\n\nDownload the LitFest Brochure as a pdf here.
URL:https://www.davenhamplayers.co.uk/event-and-production/litfest-grant-gillespie/
LOCATION:Davenham Theatre\, 59 Church Street\, Northwich\, CW9 8NF\, United Kingdom
CATEGORIES:Litfest
GEO:53.2367913;-2.5072065
X-APPLE-STRUCTURED-LOCATION;VALUE=URI;X-ADDRESS=Davenham Theatre 59 Church Street Northwich CW9 8NF United Kingdom;X-APPLE-RADIUS=500;X-TITLE=59 Church Street:geo:-2.5072065,53.2367913
END:VEVENT
BEGIN:VEVENT
DTSTART;TZID=Europe/London:20180604T193000
DTEND;TZID=Europe/London:20180604T220000
DTSTAMP:20260424T202223
CREATED:20180126T131359Z
LAST-MODIFIED:20180415T224133Z
UID:10000245-1528140600-1528149600@www.davenhamplayers.co.uk
SUMMARY:LitFest - Davenham Players
DESCRIPTION:‘Pieces of Us’\n \nThe Davenham Players own and operate Davenham Theatre. Throughout the year they present plays and a whole variety of opportunities for actors and audiences to enjoy. The evening will provide a taster of some of the many varied things they do. Davenham Theatre is one of Northwich LitFest’s favourite venues for holding events\, it’s friendly and welcoming…and it has a bar! A little theatre with a big heart and it’s right on your doorstep. Come along to this event and find out more about it.\n\n£5 – Click here to book Online\nTo book your tickets\, either click on the above link to book online\, \nemail susi.osborne@hotmail.co.uk or call 01606 553433\n\n\nDownload the LitFest Brochure as a pdf here.
URL:https://www.davenhamplayers.co.uk/event-and-production/litfest-davenham-players/
LOCATION:Davenham Theatre\, 59 Church Street\, Northwich\, CW9 8NF\, United Kingdom
CATEGORIES:Litfest
GEO:53.2367913;-2.5072065
X-APPLE-STRUCTURED-LOCATION;VALUE=URI;X-ADDRESS=Davenham Theatre 59 Church Street Northwich CW9 8NF United Kingdom;X-APPLE-RADIUS=500;X-TITLE=59 Church Street:geo:-2.5072065,53.2367913
END:VEVENT
BEGIN:VEVENT
DTSTART;TZID=Europe/London:20170630T193000
DTEND;TZID=Europe/London:20170630T213000
DTSTAMP:20260424T202223
CREATED:20170222T174906Z
LAST-MODIFIED:20170427T155951Z
UID:10000187-1498851000-1498858200@www.davenhamplayers.co.uk
SUMMARY:Litfest - Sunny Ormonde
DESCRIPTION:7.30pm – £10.00 – Click here to book online\nemail: susi.osborne@hotmail.co.uk\nor Tel: 01606 553433 \nFor details of this event\, please see the Northwich Litfest website at http://www.northwichlitfest.co.uk/
URL:https://www.davenhamplayers.co.uk/event-and-production/litfest-sunny-ormonde/
LOCATION:Davenham Theatre\, 59 Church Street\, Northwich\, CW9 8NF\, United Kingdom
CATEGORIES:Litfest
GEO:53.2367913;-2.5072065
X-APPLE-STRUCTURED-LOCATION;VALUE=URI;X-ADDRESS=Davenham Theatre 59 Church Street Northwich CW9 8NF United Kingdom;X-APPLE-RADIUS=500;X-TITLE=59 Church Street:geo:-2.5072065,53.2367913
END:VEVENT
BEGIN:VEVENT
DTSTART;TZID=Europe/London:20170623T193000
DTEND;TZID=Europe/London:20170623T213000
DTSTAMP:20260424T202223
CREATED:20170222T174729Z
LAST-MODIFIED:20170427T160346Z
UID:10000188-1498246200-1498253400@www.davenhamplayers.co.uk
SUMMARY:Litfest - Sue Wilson
DESCRIPTION:7.30pm – £5.00 – Click here to book online\nemail: susi.osborne@hotmail.co.uk\nor Tel: 01606 553433 \nFor details of this event\, please see the Northwich Litfest website at http://www.northwichlitfest.co.uk/
URL:https://www.davenhamplayers.co.uk/event-and-production/litfest-sue-wilson/
LOCATION:Davenham Theatre\, 59 Church Street\, Northwich\, CW9 8NF\, United Kingdom
CATEGORIES:Litfest
GEO:53.2367913;-2.5072065
X-APPLE-STRUCTURED-LOCATION;VALUE=URI;X-ADDRESS=Davenham Theatre 59 Church Street Northwich CW9 8NF United Kingdom;X-APPLE-RADIUS=500;X-TITLE=59 Church Street:geo:-2.5072065,53.2367913
END:VEVENT
BEGIN:VEVENT
DTSTART;TZID=Europe/London:20170620T193000
DTEND;TZID=Europe/London:20170620T213000
DTSTAMP:20260424T202223
CREATED:20170222T174616Z
LAST-MODIFIED:20170427T155902Z
UID:10000182-1497987000-1497994200@www.davenhamplayers.co.uk
SUMMARY:Litfest - Cheshire Writers Showcase
DESCRIPTION:7.30pm – £5.00 – Click here to book online\nemail: susi.osborne@hotmail.co.uk\nor Tel: 01606 553433 \nFor details of this event\, please see the Northwich Litfest website at http://www.northwichlitfest.co.uk/
URL:https://www.davenhamplayers.co.uk/event-and-production/litfest-ed-green/
LOCATION:Davenham Theatre\, 59 Church Street\, Northwich\, CW9 8NF\, United Kingdom
CATEGORIES:Litfest
GEO:53.2367913;-2.5072065
X-APPLE-STRUCTURED-LOCATION;VALUE=URI;X-ADDRESS=Davenham Theatre 59 Church Street Northwich CW9 8NF United Kingdom;X-APPLE-RADIUS=500;X-TITLE=59 Church Street:geo:-2.5072065,53.2367913
END:VEVENT
BEGIN:VEVENT
DTSTART;TZID=Europe/London:20170617T193000
DTEND;TZID=Europe/London:20170617T213000
DTSTAMP:20260424T202223
CREATED:20170222T174513Z
LAST-MODIFIED:20170427T160416Z
UID:10000183-1497727800-1497735000@www.davenhamplayers.co.uk
SUMMARY:Litfest - Sophie Parkin
DESCRIPTION:7.30pm – £5.00 – Click here to book online\nemail: susi.osborne@hotmail.co.uk\nor Tel: 01606 553433 \nFor details of this event\, please see the Northwich Litfest website at http://www.northwichlitfest.co.uk/
URL:https://www.davenhamplayers.co.uk/event-and-production/litfest-sophie-parkin/
LOCATION:Davenham Theatre\, 59 Church Street\, Northwich\, CW9 8NF\, United Kingdom
CATEGORIES:Litfest
GEO:53.2367913;-2.5072065
X-APPLE-STRUCTURED-LOCATION;VALUE=URI;X-ADDRESS=Davenham Theatre 59 Church Street Northwich CW9 8NF United Kingdom;X-APPLE-RADIUS=500;X-TITLE=59 Church Street:geo:-2.5072065,53.2367913
END:VEVENT
BEGIN:VEVENT
DTSTART;TZID=Europe/London:20170612T193000
DTEND;TZID=Europe/London:20170612T213000
DTSTAMP:20260424T202223
CREATED:20170222T175126Z
LAST-MODIFIED:20180305T223109Z
UID:10000186-1497295800-1497303000@www.davenhamplayers.co.uk
SUMMARY:Litfest - Susi Osborne
DESCRIPTION:7.30pm – FREE\nemail: susi.osborne@hotmail.co.uk\nor Tel: 01606 553433 \nFor details of this event\, please see the Northwich Litfest website at http://www.northwichlitfest.co.uk/
URL:https://www.davenhamplayers.co.uk/event-and-production/litfest-susi-osborne/
LOCATION:Davenham Theatre\, 59 Church Street\, Northwich\, CW9 8NF\, United Kingdom
CATEGORIES:Litfest
GEO:53.2367913;-2.5072065
X-APPLE-STRUCTURED-LOCATION;VALUE=URI;X-ADDRESS=Davenham Theatre 59 Church Street Northwich CW9 8NF United Kingdom;X-APPLE-RADIUS=500;X-TITLE=59 Church Street:geo:-2.5072065,53.2367913
END:VEVENT
BEGIN:VEVENT
DTSTART;TZID=Europe/London:20170609T193000
DTEND;TZID=Europe/London:20170609T213000
DTSTAMP:20260424T202223
CREATED:20170331T115626Z
LAST-MODIFIED:20170427T160433Z
UID:10000230-1497036600-1497043800@www.davenhamplayers.co.uk
SUMMARY:Litfest - Paul Burston
DESCRIPTION:7.30pm – £5.00 – Click here to book online\nemail: susi.osborne@hotmail.co.uk\nor Tel: 01606 553433 \nFor details of this event\, please see the Northwich Litfest website at http://www.northwichlitfest.co.uk/
URL:https://www.davenhamplayers.co.uk/event-and-production/litfest-paul-burston/
LOCATION:Davenham Theatre\, 59 Church Street\, Northwich\, CW9 8NF\, United Kingdom
CATEGORIES:Litfest
GEO:53.2367913;-2.5072065
X-APPLE-STRUCTURED-LOCATION;VALUE=URI;X-ADDRESS=Davenham Theatre 59 Church Street Northwich CW9 8NF United Kingdom;X-APPLE-RADIUS=500;X-TITLE=59 Church Street:geo:-2.5072065,53.2367913
END:VEVENT
BEGIN:VEVENT
DTSTART;TZID=Europe/London:20170605T193000
DTEND;TZID=Europe/London:20170605T213000
DTSTAMP:20260424T202223
CREATED:20170331T115423Z
LAST-MODIFIED:20170427T160449Z
UID:10000229-1496691000-1496698200@www.davenhamplayers.co.uk
SUMMARY:Litfest - Hayley MacGregor
DESCRIPTION:7.30pm – £5.00 – Click here to book online\nemail: susi.osborne@hotmail.co.uk\nor Tel: 01606 553433 \nFor details of this event\, please see the Northwich Litfest website at http://www.northwichlitfest.co.uk/
URL:https://www.davenhamplayers.co.uk/event-and-production/litfest-hayley-macgregor/
LOCATION:Davenham Theatre\, 59 Church Street\, Northwich\, CW9 8NF\, United Kingdom
CATEGORIES:Litfest
GEO:53.2367913;-2.5072065
X-APPLE-STRUCTURED-LOCATION;VALUE=URI;X-ADDRESS=Davenham Theatre 59 Church Street Northwich CW9 8NF United Kingdom;X-APPLE-RADIUS=500;X-TITLE=59 Church Street:geo:-2.5072065,53.2367913
END:VEVENT
END:VCALENDAR