BEGIN:VCALENDAR
VERSION:2.0
PRODID:-//The Davenham Players - ECPv6.15.20//NONSGML v1.0//EN
CALSCALE:GREGORIAN
METHOD:PUBLISH
X-ORIGINAL-URL:https://www.davenhamplayers.co.uk
X-WR-CALDESC:Events for The Davenham Players
REFRESH-INTERVAL;VALUE=DURATION:PT1H
X-Robots-Tag:noindex
X-PUBLISHED-TTL:PT1H
BEGIN:VTIMEZONE
TZID:Europe/London
BEGIN:DAYLIGHT
TZOFFSETFROM:+0000
TZOFFSETTO:+0100
TZNAME:BST
DTSTART:20250330T010000
END:DAYLIGHT
BEGIN:STANDARD
TZOFFSETFROM:+0100
TZOFFSETTO:+0000
TZNAME:GMT
DTSTART:20251026T010000
END:STANDARD
BEGIN:DAYLIGHT
TZOFFSETFROM:+0000
TZOFFSETTO:+0100
TZNAME:BST
DTSTART:20260329T010000
END:DAYLIGHT
BEGIN:STANDARD
TZOFFSETFROM:+0100
TZOFFSETTO:+0000
TZNAME:GMT
DTSTART:20261025T010000
END:STANDARD
BEGIN:DAYLIGHT
TZOFFSETFROM:+0000
TZOFFSETTO:+0100
TZNAME:BST
DTSTART:20270328T010000
END:DAYLIGHT
BEGIN:STANDARD
TZOFFSETFROM:+0100
TZOFFSETTO:+0000
TZNAME:GMT
DTSTART:20271031T010000
END:STANDARD
END:VTIMEZONE
BEGIN:VEVENT
DTSTART;TZID=Europe/London:20260505T193000
DTEND;TZID=Europe/London:20260505T213000
DTSTAMP:20260424T181843
CREATED:20250529T222029Z
LAST-MODIFIED:20250722T081518Z
UID:10002024-1778009400-1778016600@www.davenhamplayers.co.uk
SUMMARY:Play Reading Group
DESCRIPTION:Would you like to \n\nTry your hand at reading a part out loud\nHelp Davenham Players find good play scripts\nCome along for a social and meet us and other drama people\nHave a quiet cup of tea and biscuits and listen\n\nYou can do all of these things if you come along to the theatre at 7:30pm each first Tuesday of the month (except August). \nJust turn up and Dee will do the rest. Tea free for members. Small contribution for non-members. \nCONTACT DEE FOR MORE INFORMATION here
URL:https://www.davenhamplayers.co.uk/event-and-production/play-reading-group-2-7/2026-05-05/
LOCATION:Davenham Theatre\, 59 Church Street\, Northwich\, CW9 8NF\, United Kingdom
CATEGORIES:Club
ATTACH;FMTTYPE=image/jpeg:https://www.davenhamplayers.co.uk/wp-content/uploads/2022/02/IMG_20220106_193914-scaled.jpg
GEO:53.2367913;-2.5072065
X-APPLE-STRUCTURED-LOCATION;VALUE=URI;X-ADDRESS=Davenham Theatre 59 Church Street Northwich CW9 8NF United Kingdom;X-APPLE-RADIUS=500;X-TITLE=59 Church Street:geo:-2.5072065,53.2367913
END:VEVENT
BEGIN:VEVENT
DTSTART;TZID=Europe/London:20260512T193000
DTEND;TZID=Europe/London:20260512T220000
DTSTAMP:20260424T181843
CREATED:20250830T214229Z
LAST-MODIFIED:20250830T214229Z
UID:10001905-1778614200-1778623200@www.davenhamplayers.co.uk
SUMMARY:Davenham Writing Group
DESCRIPTION:Davenham Writing Group – Monthly Meeting\nMeets on the Second Tuesday of the month \n\n\nFree for members. Non-members pay £1 for refreshments
URL:https://www.davenhamplayers.co.uk/event-and-production/davenham-writing-group-5-5-3-3/2026-05-12/
LOCATION:Davenham Theatre\, 59 Church Street\, Northwich\, CW9 8NF\, United Kingdom
CATEGORIES:Club
ATTACH;FMTTYPE=image/jpeg:https://www.davenhamplayers.co.uk/wp-content/uploads/2019/06/Penpaper.jpg
GEO:53.2367913;-2.5072065
X-APPLE-STRUCTURED-LOCATION;VALUE=URI;X-ADDRESS=Davenham Theatre 59 Church Street Northwich CW9 8NF United Kingdom;X-APPLE-RADIUS=500;X-TITLE=59 Church Street:geo:-2.5072065,53.2367913
END:VEVENT
BEGIN:VEVENT
DTSTART;TZID=Europe/London:20260514T193000
DTEND;TZID=Europe/London:20260514T220000
DTSTAMP:20260424T181843
CREATED:20260419T181901Z
LAST-MODIFIED:20260419T181907Z
UID:10002585-1778787000-1778796000@www.davenhamplayers.co.uk
SUMMARY:The Resistible Rise of Arturo Ui by Bertolt Brecht
DESCRIPTION:Step back in time to 1920s Chicago and the world of hoodlums and thuggery as petty criminal Arturo Ui tries to make a name for himself. In this parable tale\, Brecht parallels the rise of Ui to Hitler’s rise in Germany.\n\nDespite chilling content\, this is a black comedy directed by Jane Barrie with original song and music. It promises to be a fast-paced and energetic evening that packs a powerful punch.\n\n\n\n\n\n\n\n\nFor full details of show dates and booking\, see the Davenham Players Ticket Shop \n\nDoors Open at 7:00PM\nStarts at 7:30PM
URL:https://www.davenhamplayers.co.uk/event-and-production/the-resistible-rise-of-arturo-ui-by-bertolt-brecht-2/
LOCATION:Davenham Theatre\, 59 Church Street\, Northwich\, CW9 8NF\, United Kingdom
CATEGORIES:Drama,Featured
GEO:53.2367913;-2.5072065
X-APPLE-STRUCTURED-LOCATION;VALUE=URI;X-ADDRESS=Davenham Theatre 59 Church Street Northwich CW9 8NF United Kingdom;X-APPLE-RADIUS=500;X-TITLE=59 Church Street:geo:-2.5072065,53.2367913
END:VEVENT
BEGIN:VEVENT
DTSTART;TZID=Europe/London:20260515T193000
DTEND;TZID=Europe/London:20260515T220000
DTSTAMP:20260424T181843
CREATED:20260129T175112Z
LAST-MODIFIED:20260407T071432Z
UID:10002529-1778873400-1778882400@www.davenhamplayers.co.uk
SUMMARY:The Resistible Rise of Arturo Ui by Bertolt Brecht
DESCRIPTION:Step back in time to 1920s Chicago and the world of hoodlums and thuggery as petty criminal Arturo Ui tries to make a name for himself. In this parable tale\, Brecht parallels the rise of Ui to Hitler’s rise in Germany.\n\nDespite chilling content\, this is a black comedy directed by Jane Barrie with original song and music. It promises to be a fast-paced and energetic evening that packs a powerful punch.\n\n\n\n\n\n\n\n\nFor full details of show dates and booking\, see the Davenham Players Ticket Shop \n\nDoors Open at 7:00PM\nStarts at 7:30PM
URL:https://www.davenhamplayers.co.uk/event-and-production/the-resistible-rise-of-arturo-ui-by-bertolt-brecht/2026-05-15/
LOCATION:Davenham Theatre\, 59 Church Street\, Northwich\, CW9 8NF\, United Kingdom
CATEGORIES:Drama
GEO:53.2367913;-2.5072065
X-APPLE-STRUCTURED-LOCATION;VALUE=URI;X-ADDRESS=Davenham Theatre 59 Church Street Northwich CW9 8NF United Kingdom;X-APPLE-RADIUS=500;X-TITLE=59 Church Street:geo:-2.5072065,53.2367913
END:VEVENT
BEGIN:VEVENT
DTSTART;TZID=Europe/London:20260519T193000
DTEND;TZID=Europe/London:20260519T220000
DTSTAMP:20260424T181843
CREATED:20250507T220133Z
LAST-MODIFIED:20250722T082556Z
UID:10002086-1779219000-1779228000@www.davenhamplayers.co.uk
SUMMARY:Davenham Acting Group
DESCRIPTION:Meets third Tuesday of each month except when a drama production is on stage \nNo August meeting \nFree for members. Non-members pay £1 for refreshments
URL:https://www.davenhamplayers.co.uk/event-and-production/davenham-acting-group-4-7/2026-05-19/
LOCATION:Davenham Theatre\, 59 Church Street\, Northwich\, CW9 8NF\, United Kingdom
CATEGORIES:Club
ATTACH;FMTTYPE=image/jpeg:https://www.davenhamplayers.co.uk/wp-content/uploads/2025/04/DSCN1943.jpg
GEO:53.2367913;-2.5072065
X-APPLE-STRUCTURED-LOCATION;VALUE=URI;X-ADDRESS=Davenham Theatre 59 Church Street Northwich CW9 8NF United Kingdom;X-APPLE-RADIUS=500;X-TITLE=59 Church Street:geo:-2.5072065,53.2367913
END:VEVENT
BEGIN:VEVENT
DTSTART;TZID=Europe/London:20260519T193000
DTEND;TZID=Europe/London:20260519T220000
DTSTAMP:20260424T181843
CREATED:20260129T175112Z
LAST-MODIFIED:20260407T071432Z
UID:10002531-1779219000-1779228000@www.davenhamplayers.co.uk
SUMMARY:The Resistible Rise of Arturo Ui by Bertolt Brecht
DESCRIPTION:Step back in time to 1920s Chicago and the world of hoodlums and thuggery as petty criminal Arturo Ui tries to make a name for himself. In this parable tale\, Brecht parallels the rise of Ui to Hitler’s rise in Germany.\n\nDespite chilling content\, this is a black comedy directed by Jane Barrie with original song and music. It promises to be a fast-paced and energetic evening that packs a powerful punch.\n\n\n\n\n\n\n\n\nFor full details of show dates and booking\, see the Davenham Players Ticket Shop \n\nDoors Open at 7:00PM\nStarts at 7:30PM
URL:https://www.davenhamplayers.co.uk/event-and-production/the-resistible-rise-of-arturo-ui-by-bertolt-brecht/2026-05-19/
LOCATION:Davenham Theatre\, 59 Church Street\, Northwich\, CW9 8NF\, United Kingdom
CATEGORIES:Drama
GEO:53.2367913;-2.5072065
X-APPLE-STRUCTURED-LOCATION;VALUE=URI;X-ADDRESS=Davenham Theatre 59 Church Street Northwich CW9 8NF United Kingdom;X-APPLE-RADIUS=500;X-TITLE=59 Church Street:geo:-2.5072065,53.2367913
END:VEVENT
BEGIN:VEVENT
DTSTART;TZID=Europe/London:20260520T193000
DTEND;TZID=Europe/London:20260520T220000
DTSTAMP:20260424T181843
CREATED:20260129T175112Z
LAST-MODIFIED:20260407T071432Z
UID:10002532-1779305400-1779314400@www.davenhamplayers.co.uk
SUMMARY:The Resistible Rise of Arturo Ui by Bertolt Brecht
DESCRIPTION:Step back in time to 1920s Chicago and the world of hoodlums and thuggery as petty criminal Arturo Ui tries to make a name for himself. In this parable tale\, Brecht parallels the rise of Ui to Hitler’s rise in Germany.\n\nDespite chilling content\, this is a black comedy directed by Jane Barrie with original song and music. It promises to be a fast-paced and energetic evening that packs a powerful punch.\n\n\n\n\n\n\n\n\nFor full details of show dates and booking\, see the Davenham Players Ticket Shop \n\nDoors Open at 7:00PM\nStarts at 7:30PM
URL:https://www.davenhamplayers.co.uk/event-and-production/the-resistible-rise-of-arturo-ui-by-bertolt-brecht/2026-05-20/
LOCATION:Davenham Theatre\, 59 Church Street\, Northwich\, CW9 8NF\, United Kingdom
CATEGORIES:Drama
GEO:53.2367913;-2.5072065
X-APPLE-STRUCTURED-LOCATION;VALUE=URI;X-ADDRESS=Davenham Theatre 59 Church Street Northwich CW9 8NF United Kingdom;X-APPLE-RADIUS=500;X-TITLE=59 Church Street:geo:-2.5072065,53.2367913
END:VEVENT
BEGIN:VEVENT
DTSTART;TZID=Europe/London:20260521T193000
DTEND;TZID=Europe/London:20260521T220000
DTSTAMP:20260424T181843
CREATED:20260129T175112Z
LAST-MODIFIED:20260407T071432Z
UID:10002533-1779391800-1779400800@www.davenhamplayers.co.uk
SUMMARY:The Resistible Rise of Arturo Ui by Bertolt Brecht
DESCRIPTION:Step back in time to 1920s Chicago and the world of hoodlums and thuggery as petty criminal Arturo Ui tries to make a name for himself. In this parable tale\, Brecht parallels the rise of Ui to Hitler’s rise in Germany.\n\nDespite chilling content\, this is a black comedy directed by Jane Barrie with original song and music. It promises to be a fast-paced and energetic evening that packs a powerful punch.\n\n\n\n\n\n\n\n\nFor full details of show dates and booking\, see the Davenham Players Ticket Shop \n\nDoors Open at 7:00PM\nStarts at 7:30PM
URL:https://www.davenhamplayers.co.uk/event-and-production/the-resistible-rise-of-arturo-ui-by-bertolt-brecht/2026-05-21/
LOCATION:Davenham Theatre\, 59 Church Street\, Northwich\, CW9 8NF\, United Kingdom
CATEGORIES:Drama
GEO:53.2367913;-2.5072065
X-APPLE-STRUCTURED-LOCATION;VALUE=URI;X-ADDRESS=Davenham Theatre 59 Church Street Northwich CW9 8NF United Kingdom;X-APPLE-RADIUS=500;X-TITLE=59 Church Street:geo:-2.5072065,53.2367913
END:VEVENT
BEGIN:VEVENT
DTSTART;TZID=Europe/London:20260522T193000
DTEND;TZID=Europe/London:20260522T220000
DTSTAMP:20260424T181843
CREATED:20260129T175112Z
LAST-MODIFIED:20260407T071432Z
UID:10002534-1779478200-1779487200@www.davenhamplayers.co.uk
SUMMARY:The Resistible Rise of Arturo Ui by Bertolt Brecht
DESCRIPTION:Step back in time to 1920s Chicago and the world of hoodlums and thuggery as petty criminal Arturo Ui tries to make a name for himself. In this parable tale\, Brecht parallels the rise of Ui to Hitler’s rise in Germany.\n\nDespite chilling content\, this is a black comedy directed by Jane Barrie with original song and music. It promises to be a fast-paced and energetic evening that packs a powerful punch.\n\n\n\n\n\n\n\n\nFor full details of show dates and booking\, see the Davenham Players Ticket Shop \n\nDoors Open at 7:00PM\nStarts at 7:30PM
URL:https://www.davenhamplayers.co.uk/event-and-production/the-resistible-rise-of-arturo-ui-by-bertolt-brecht/2026-05-22/
LOCATION:Davenham Theatre\, 59 Church Street\, Northwich\, CW9 8NF\, United Kingdom
CATEGORIES:Drama
GEO:53.2367913;-2.5072065
X-APPLE-STRUCTURED-LOCATION;VALUE=URI;X-ADDRESS=Davenham Theatre 59 Church Street Northwich CW9 8NF United Kingdom;X-APPLE-RADIUS=500;X-TITLE=59 Church Street:geo:-2.5072065,53.2367913
END:VEVENT
BEGIN:VEVENT
DTSTART;TZID=Europe/London:20260523T193000
DTEND;TZID=Europe/London:20260523T220000
DTSTAMP:20260424T181843
CREATED:20260129T175112Z
LAST-MODIFIED:20260407T071432Z
UID:10002535-1779564600-1779573600@www.davenhamplayers.co.uk
SUMMARY:The Resistible Rise of Arturo Ui by Bertolt Brecht
DESCRIPTION:Step back in time to 1920s Chicago and the world of hoodlums and thuggery as petty criminal Arturo Ui tries to make a name for himself. In this parable tale\, Brecht parallels the rise of Ui to Hitler’s rise in Germany.\n\nDespite chilling content\, this is a black comedy directed by Jane Barrie with original song and music. It promises to be a fast-paced and energetic evening that packs a powerful punch.\n\n\n\n\n\n\n\n\nFor full details of show dates and booking\, see the Davenham Players Ticket Shop \n\nDoors Open at 7:00PM\nStarts at 7:30PM
URL:https://www.davenhamplayers.co.uk/event-and-production/the-resistible-rise-of-arturo-ui-by-bertolt-brecht/2026-05-23/
LOCATION:Davenham Theatre\, 59 Church Street\, Northwich\, CW9 8NF\, United Kingdom
CATEGORIES:Drama
GEO:53.2367913;-2.5072065
X-APPLE-STRUCTURED-LOCATION;VALUE=URI;X-ADDRESS=Davenham Theatre 59 Church Street Northwich CW9 8NF United Kingdom;X-APPLE-RADIUS=500;X-TITLE=59 Church Street:geo:-2.5072065,53.2367913
END:VEVENT
BEGIN:VEVENT
DTSTART;TZID=Europe/London:20260526T193000
DTEND;TZID=Europe/London:20260526T213000
DTSTAMP:20260424T181843
CREATED:20250910T102338Z
LAST-MODIFIED:20250910T103115Z
UID:10001966-1779823800-1779831000@www.davenhamplayers.co.uk
SUMMARY:Davenham Improv Group
DESCRIPTION:Group formed by Kathryn Cooke for people interested in developing Improv skills\, or just having a bit of a laugh with friends! \nMaybe BOTH? \nMonthly on the fourth Tuesday
URL:https://www.davenhamplayers.co.uk/event-and-production/davenham-improv-group-7-2-3/2026-05-26/
LOCATION:Davenham Theatre\, 59 Church Street\, Northwich\, CW9 8NF\, United Kingdom
CATEGORIES:Club
ATTACH;FMTTYPE=image/jpeg:https://www.davenhamplayers.co.uk/wp-content/uploads/2025/09/Poster-1.jpg
GEO:53.2367913;-2.5072065
X-APPLE-STRUCTURED-LOCATION;VALUE=URI;X-ADDRESS=Davenham Theatre 59 Church Street Northwich CW9 8NF United Kingdom;X-APPLE-RADIUS=500;X-TITLE=59 Church Street:geo:-2.5072065,53.2367913
END:VEVENT
BEGIN:VEVENT
DTSTART;TZID=Europe/London:20260528T193000
DTEND;TZID=Europe/London:20260528T220000
DTSTAMP:20260424T181843
CREATED:20251109T202206Z
LAST-MODIFIED:20251117T190505Z
UID:10002515-1779996600-1780005600@www.davenhamplayers.co.uk
SUMMARY:Jazz Fugue & Groove Trio
DESCRIPTION:FUGUE & GROOVE TRIO\nTHURSDAY 28TH MAY 2026\n\nFugue & Groove is a piano-based trio fusing jazz energy with classical sophistication. Their unique sound combines structured elegance with improvisational brilliance\, reimagining beloved works by Massenet\, Bach\, and Dvořák alongside fresh\, high-energy arrangements. At the core of their performances is interplay: themes shift into unexpected grooves\, ideas evolve in real time\, and the trio feeds off audience energy to create a concert experience that is never the same twice. From lyrical ballads to driving swing\, their sets balance dexterity with accessibility—captivating seasoned jazz fans and classical audiences alike. \nThe name says it all: “Fugue” reflects classical counterpoint and structure\, while “Groove” captures the rhythm\, vitality\, and spirit of jazz. Together\, they deliver a performance that is sophisticated\, inventive\, and entertaining. \nWith collective experience working alongside leading names such as Alex Clarke\, Greg Abate\, Ray Gelato\, Kenny Ball\, Bobby Wellins\, King Pleasure and the Biscuit Boys\, Idina Menzel and Dave Stewart\, Fugue & Groove bring expertise and energy to every stage. Already winning over audiences across the UK\, the trio is fast gaining attention from promoters\, festivals\, and venues seeking something thats both fresh but with universal appeal and themes that are familiar to audiences. \n“The trio captivated the audience at Lichfield Arts Jazz and Blues Festival with dazzling\, jazzinfused reimaginings of classical masters from Bach to Beethoven. ” – Lichfield Jazz and Blues festival 2025 \n“Last night’s performance was one of the best at the club. The three of you have something special.” – Pershore Jazz \nLINE-UP \nRichard Hughes – KeyboardsSimon Smith – BassSteve Street – Drums \n=========================================================== \n\nThe box office is able to take bookings for one gig at a time\, but do make a note of the dates which are of interest to you during our forthcoming season so that you can make your bookings at the appropriate time. \n\n\n\nIf possible\, make your requests via email\, but don’t forget to give us a little bit of notice if you know that you are going to be unable to attend.  We appreciate that there will always be unavoidable\, unforeseen circumstances\, but clearly we want to make places available and fill all possible seats\, particularly for gigs in high demand. \n\n\n\nWe are not a profit making organisation\, but we do want to keep breaking even in order to keep music live. \n\n\n\nBooking Enquiries  Call Keith on 07990 703 787\nor email jazz@davenham.co\n\n\n\nPlease do not assume that your places are confirmed unless you have had a response from J@D and\, if you have not\, then contact us again \n\n\n\nDoors & Bar 7.30pm Gigs start @ 8pm\n   Tickets £15\n\n\n\nFrom JAZZ@DAVENHAM TEAM\nGREAT GIGS\nFABULOUS BANDS\nClick to see the full Jazz Programme
URL:https://www.davenhamplayers.co.uk/event-and-production/jazz-fugue-groove-trio/
LOCATION:Davenham Theatre\, 59 Church Street\, Northwich\, CW9 8NF\, United Kingdom
CATEGORIES:Music,Jazz
ATTACH;FMTTYPE=image/jpeg:https://www.davenhamplayers.co.uk/wp-content/uploads/2025/11/FuguegrooveTetbury_trio2-scaled.jpg
GEO:53.2367913;-2.5072065
X-APPLE-STRUCTURED-LOCATION;VALUE=URI;X-ADDRESS=Davenham Theatre 59 Church Street Northwich CW9 8NF United Kingdom;X-APPLE-RADIUS=500;X-TITLE=59 Church Street:geo:-2.5072065,53.2367913
END:VEVENT
BEGIN:VEVENT
DTSTART;TZID=Europe/London:20260529T193000
DTEND;TZID=Europe/London:20260529T220000
DTSTAMP:20260424T181843
CREATED:20260419T165109Z
LAST-MODIFIED:20260419T194411Z
UID:10002588-1780083000-1780092000@www.davenhamplayers.co.uk
SUMMARY:Northwich LitFest 2026 - Launch Party
DESCRIPTION:NOTE: NOT ALL LITFEST EVENTS ARE AT DAVENHAM THEATRE \nYOU CAN ORDER TICKETS FOR ANY LITFEST EVENT FROM EVENTBRITE AT https://www.eventbrite.co.uk/o/11101053202
URL:https://www.davenhamplayers.co.uk/event-and-production/northwich-litfest-2026-launch-party/
LOCATION:Davenham Theatre\, 59 Church Street\, Northwich\, CW9 8NF\, United Kingdom
CATEGORIES:Litfest,Featured
ATTACH;FMTTYPE=image/webp:https://www.davenhamplayers.co.uk/wp-content/uploads/2026/04/2026-LAUNCH-MATT-CAIN.webp
GEO:53.2367913;-2.5072065
X-APPLE-STRUCTURED-LOCATION;VALUE=URI;X-ADDRESS=Davenham Theatre 59 Church Street Northwich CW9 8NF United Kingdom;X-APPLE-RADIUS=500;X-TITLE=59 Church Street:geo:-2.5072065,53.2367913
END:VEVENT
END:VCALENDAR