BEGIN:VCALENDAR
VERSION:2.0
PRODID:-//The Davenham Players - ECPv6.15.20//NONSGML v1.0//EN
CALSCALE:GREGORIAN
METHOD:PUBLISH
X-WR-CALNAME:The Davenham Players
X-ORIGINAL-URL:https://www.davenhamplayers.co.uk
X-WR-CALDESC:Events for The Davenham Players
REFRESH-INTERVAL;VALUE=DURATION:PT1H
X-Robots-Tag:noindex
X-PUBLISHED-TTL:PT1H
BEGIN:VTIMEZONE
TZID:Europe/London
BEGIN:DAYLIGHT
TZOFFSETFROM:+0000
TZOFFSETTO:+0100
TZNAME:BST
DTSTART:20260329T010000
END:DAYLIGHT
BEGIN:STANDARD
TZOFFSETFROM:+0100
TZOFFSETTO:+0000
TZNAME:GMT
DTSTART:20261025T010000
END:STANDARD
BEGIN:DAYLIGHT
TZOFFSETFROM:+0000
TZOFFSETTO:+0100
TZNAME:BST
DTSTART:20270328T010000
END:DAYLIGHT
BEGIN:STANDARD
TZOFFSETFROM:+0100
TZOFFSETTO:+0000
TZNAME:GMT
DTSTART:20271031T010000
END:STANDARD
BEGIN:DAYLIGHT
TZOFFSETFROM:+0000
TZOFFSETTO:+0100
TZNAME:BST
DTSTART:20280326T010000
END:DAYLIGHT
BEGIN:STANDARD
TZOFFSETFROM:+0100
TZOFFSETTO:+0000
TZNAME:GMT
DTSTART:20281029T010000
END:STANDARD
END:VTIMEZONE
BEGIN:VEVENT
DTSTART;TZID=Europe/London:20270601T193000
DTEND;TZID=Europe/London:20270601T213000
DTSTAMP:20260425T125711
CREATED:20250529T222029Z
LAST-MODIFIED:20250722T081518Z
UID:10002037-1811878200-1811885400@www.davenhamplayers.co.uk
SUMMARY:Play Reading Group
DESCRIPTION:Would you like to \n\nTry your hand at reading a part out loud\nHelp Davenham Players find good play scripts\nCome along for a social and meet us and other drama people\nHave a quiet cup of tea and biscuits and listen\n\nYou can do all of these things if you come along to the theatre at 7:30pm each first Tuesday of the month (except August). \nJust turn up and Dee will do the rest. Tea free for members. Small contribution for non-members. \nCONTACT DEE FOR MORE INFORMATION here
URL:https://www.davenhamplayers.co.uk/event-and-production/play-reading-group-2-7/2027-06-01/
LOCATION:Davenham Theatre\, 59 Church Street\, Northwich\, CW9 8NF\, United Kingdom
CATEGORIES:Club
ATTACH;FMTTYPE=image/jpeg:https://www.davenhamplayers.co.uk/wp-content/uploads/2022/02/IMG_20220106_193914-scaled.jpg
GEO:53.2367913;-2.5072065
X-APPLE-STRUCTURED-LOCATION;VALUE=URI;X-ADDRESS=Davenham Theatre 59 Church Street Northwich CW9 8NF United Kingdom;X-APPLE-RADIUS=500;X-TITLE=59 Church Street:geo:-2.5072065,53.2367913
END:VEVENT
BEGIN:VEVENT
DTSTART;TZID=Europe/London:20270608T193000
DTEND;TZID=Europe/London:20270608T220000
DTSTAMP:20260425T125711
CREATED:20250830T214229Z
LAST-MODIFIED:20250830T214229Z
UID:10001918-1812483000-1812492000@www.davenhamplayers.co.uk
SUMMARY:Davenham Writing Group
DESCRIPTION:Davenham Writing Group – Monthly Meeting\nMeets on the Second Tuesday of the month \n\n\nFree for members. Non-members pay £1 for refreshments
URL:https://www.davenhamplayers.co.uk/event-and-production/davenham-writing-group-5-5-3-3/2027-06-08/
LOCATION:Davenham Theatre\, 59 Church Street\, Northwich\, CW9 8NF\, United Kingdom
CATEGORIES:Club
ATTACH;FMTTYPE=image/jpeg:https://www.davenhamplayers.co.uk/wp-content/uploads/2019/06/Penpaper.jpg
GEO:53.2367913;-2.5072065
X-APPLE-STRUCTURED-LOCATION;VALUE=URI;X-ADDRESS=Davenham Theatre 59 Church Street Northwich CW9 8NF United Kingdom;X-APPLE-RADIUS=500;X-TITLE=59 Church Street:geo:-2.5072065,53.2367913
END:VEVENT
BEGIN:VEVENT
DTSTART;TZID=Europe/London:20270615T193000
DTEND;TZID=Europe/London:20270615T220000
DTSTAMP:20260425T125711
CREATED:20250507T220133Z
LAST-MODIFIED:20250722T082556Z
UID:10002099-1813087800-1813096800@www.davenhamplayers.co.uk
SUMMARY:Davenham Acting Group
DESCRIPTION:Meets third Tuesday of each month except when a drama production is on stage \nNo August meeting \nFree for members. Non-members pay £1 for refreshments
URL:https://www.davenhamplayers.co.uk/event-and-production/davenham-acting-group-4-7/2027-06-15/
LOCATION:Davenham Theatre\, 59 Church Street\, Northwich\, CW9 8NF\, United Kingdom
CATEGORIES:Club
ATTACH;FMTTYPE=image/jpeg:https://www.davenhamplayers.co.uk/wp-content/uploads/2025/04/DSCN1943.jpg
GEO:53.2367913;-2.5072065
X-APPLE-STRUCTURED-LOCATION;VALUE=URI;X-ADDRESS=Davenham Theatre 59 Church Street Northwich CW9 8NF United Kingdom;X-APPLE-RADIUS=500;X-TITLE=59 Church Street:geo:-2.5072065,53.2367913
END:VEVENT
BEGIN:VEVENT
DTSTART;TZID=Europe/London:20270622T193000
DTEND;TZID=Europe/London:20270622T213000
DTSTAMP:20260425T125711
CREATED:20250910T102338Z
LAST-MODIFIED:20250910T103115Z
UID:10001979-1813692600-1813699800@www.davenhamplayers.co.uk
SUMMARY:Davenham Improv Group
DESCRIPTION:Group formed by Kathryn Cooke for people interested in developing Improv skills\, or just having a bit of a laugh with friends! \nMaybe BOTH? \nMonthly on the fourth Tuesday
URL:https://www.davenhamplayers.co.uk/event-and-production/davenham-improv-group-7-2-3/2027-06-22/
LOCATION:Davenham Theatre\, 59 Church Street\, Northwich\, CW9 8NF\, United Kingdom
CATEGORIES:Club
ATTACH;FMTTYPE=image/jpeg:https://www.davenhamplayers.co.uk/wp-content/uploads/2025/09/Poster-1.jpg
GEO:53.2367913;-2.5072065
X-APPLE-STRUCTURED-LOCATION;VALUE=URI;X-ADDRESS=Davenham Theatre 59 Church Street Northwich CW9 8NF United Kingdom;X-APPLE-RADIUS=500;X-TITLE=59 Church Street:geo:-2.5072065,53.2367913
END:VEVENT
END:VCALENDAR